BEGIN:VCALENDAR
VERSION:2.0
PRODID:-//PleaseRock - ECPv6.9.0//NONSGML v1.0//EN
CALSCALE:GREGORIAN
METHOD:PUBLISH
X-WR-CALNAME:PleaseRock
X-ORIGINAL-URL:https://pleaserock.com
X-WR-CALDESC:Events for PleaseRock
REFRESH-INTERVAL;VALUE=DURATION:PT1H
X-Robots-Tag:noindex
X-PUBLISHED-TTL:PT1H
BEGIN:VTIMEZONE
TZID:UTC
BEGIN:STANDARD
TZOFFSETFROM:+0000
TZOFFSETTO:+0000
TZNAME:UTC
DTSTART:20190101T000000
END:STANDARD
END:VTIMEZONE
BEGIN:VEVENT
DTSTART;TZID=UTC:20190809T200000
DTEND;TZID=UTC:20190809T220000
DTSTAMP:20260421T204949
CREATED:20190809T161546Z
LAST-MODIFIED:20190809T161635Z
UID:1675-1565380800-1565388000@pleaserock.com
SUMMARY:Yacht Rock Revue Holiday Spectacular at Coca-Cola Roxy
DESCRIPTION:
URL:https://pleaserock.com/event/yacht-rock-revue-holiday-spectacular-at-coca-cola-roxy/
LOCATION:Coca Cola Roxy\, 800 Battery Ave SE #500\, Atlanta\, GA\, 30339\, United States
CATEGORIES:Yacht Rock
END:VEVENT
BEGIN:VEVENT
DTSTART;TZID=UTC:20190804T200000
DTEND;TZID=UTC:20190804T220000
DTSTAMP:20260421T204949
CREATED:20190513T182134Z
LAST-MODIFIED:20190513T182531Z
UID:1605-1564948800-1564956000@pleaserock.com
SUMMARY:Yacht Rock Revue at Neumos
DESCRIPTION:
URL:https://pleaserock.com/event/yacht-rock-revue-at-neumos/
LOCATION:Neumos\, 925 E. Pike St.\, Seattle\, WA\, 98122\, United States
CATEGORIES:Yacht Rock
END:VEVENT
BEGIN:VEVENT
DTSTART;TZID=UTC:20190803T200000
DTEND;TZID=UTC:20190803T220000
DTSTAMP:20260421T204949
CREATED:20190513T182029Z
LAST-MODIFIED:20190513T182825Z
UID:1603-1564862400-1564869600@pleaserock.com
SUMMARY:Yacht Rock Revue at Revolution Hall
DESCRIPTION:
URL:https://pleaserock.com/event/yacht-rock-revue-at-revolution-hall/
LOCATION:Revolution Hall\, 1300 SE STARK ST\, Portland\, OR\, 97214\, United States
CATEGORIES:Yacht Rock
END:VEVENT
BEGIN:VEVENT
DTSTART;TZID=UTC:20190727T200000
DTEND;TZID=UTC:20190727T220000
DTSTAMP:20260421T204949
CREATED:20190424T183916Z
LAST-MODIFIED:20190424T183916Z
UID:1585-1564257600-1564264800@pleaserock.com
SUMMARY:Yacht Rock Revue at Kroger Symphony on the Prarie
DESCRIPTION:
URL:https://pleaserock.com/event/yacht-rock-revue-at-kroger-symphony-on-the-prarie-4/
LOCATION:Conner Prarie\, Fishers\, IN\, United States
CATEGORIES:Yacht Rock
END:VEVENT
BEGIN:VEVENT
DTSTART;TZID=UTC:20190726T200000
DTEND;TZID=UTC:20190726T220000
DTSTAMP:20260421T204949
CREATED:20190424T183816Z
LAST-MODIFIED:20190424T183816Z
UID:1583-1564171200-1564178400@pleaserock.com
SUMMARY:Yacht Rock Revue at Kroger Symphony on the Prarie
DESCRIPTION:
URL:https://pleaserock.com/event/yacht-rock-revue-at-kroger-symphony-on-the-prarie-3/
LOCATION:Conner Prarie\, Fishers\, IN\, United States
CATEGORIES:Yacht Rock
END:VEVENT
BEGIN:VEVENT
DTSTART;TZID=UTC:20190726T190000
DTEND;TZID=UTC:20190726T230000
DTSTAMP:20260421T204949
CREATED:20190508T150503Z
LAST-MODIFIED:20190508T150541Z
UID:1591-1564167600-1564182000@pleaserock.com
SUMMARY:Yacht Rock Schooner @ Park Tavern
DESCRIPTION:
URL:https://pleaserock.com/event/yacht-rock-schooner-park-tavern-5/
LOCATION:Park Tavern\, Atlanta\, GA\, United States
CATEGORIES:Yacht Rock Schooner
END:VEVENT
BEGIN:VEVENT
DTSTART;TZID=UTC:20190725T190000
DTEND;TZID=UTC:20190725T210000
DTSTAMP:20260421T204949
CREATED:20190204T160553Z
LAST-MODIFIED:20190204T160553Z
UID:1517-1564081200-1564088400@pleaserock.com
SUMMARY:Yacht Rock Revue at Sweetwater Performance Pavillion
DESCRIPTION:
URL:https://pleaserock.com/event/yacht-rock-revue-at-sweetwater-performance-pavillion/
LOCATION:Sweetwater Performance Pavillion\, 5501 US Highway 30 West\, Fort Wayne\, IN\, United States
CATEGORIES:Yacht Rock
END:VEVENT
BEGIN:VEVENT
DTSTART;TZID=UTC:20190713T190000
DTEND;TZID=UTC:20190713T230000
DTSTAMP:20260421T204949
CREATED:20190710T152500Z
LAST-MODIFIED:20190710T152500Z
UID:1661-1563044400-1563058800@pleaserock.com
SUMMARY:Yacht Rock Schooner @ The Ivy
DESCRIPTION:
URL:https://pleaserock.com/event/yacht-rock-schooner-the-ivy/
LOCATION:The Ivy\, 3717 Roswell Rd\, Atlanta\, GA\, 30342\, United States
CATEGORIES:Yacht Rock Schooner
END:VEVENT
BEGIN:VEVENT
DTSTART;TZID=UTC:20190712T200000
DTEND;TZID=UTC:20190712T220000
DTSTAMP:20260421T204949
CREATED:20190509T203842Z
LAST-MODIFIED:20190509T203842Z
UID:1601-1562961600-1562968800@pleaserock.com
SUMMARY:Yacht Rock Revue @ Venkman's
DESCRIPTION:
URL:https://pleaserock.com/event/yacht-rock-revue-venkmans/
LOCATION:Venkman’s\, 740 Ralph McGill Blvd\, Atlanta\, GA\, 30312\, United States
CATEGORIES:Yacht Rock
END:VEVENT
BEGIN:VEVENT
DTSTART;TZID=UTC:20190711T200000
DTEND;TZID=UTC:20190711T220000
DTSTAMP:20260421T204949
CREATED:20190509T203750Z
LAST-MODIFIED:20190509T203750Z
UID:1599-1562875200-1562882400@pleaserock.com
SUMMARY:Yacht Rock Revue Unplugged @ Venkman's
DESCRIPTION:
URL:https://pleaserock.com/event/yacht-rock-revue-unplugged-venkmans-5/
LOCATION:Venkman’s\, 740 Ralph McGill Blvd\, Atlanta\, GA\, 30312\, United States
CATEGORIES:Yacht Rock
END:VEVENT
BEGIN:VEVENT
DTSTART;TZID=UTC:20190707T200000
DTEND;TZID=UTC:20190707T220000
DTSTAMP:20260421T204949
CREATED:20190422T144203Z
LAST-MODIFIED:20190422T144203Z
UID:1581-1562529600-1562536800@pleaserock.com
SUMMARY:Yacht Rock Revue at House of Blues Myrtle Beach
DESCRIPTION:
URL:https://pleaserock.com/event/yacht-rock-revue-at-house-of-blues-myrtle-beach/
LOCATION:House of Blues Myrtle Beach\, Myrtle Beach\, SC\, United States
CATEGORIES:Yacht Rock
END:VEVENT
BEGIN:VEVENT
DTSTART;TZID=UTC:20190706T203000
DTEND;TZID=UTC:20190706T233000
DTSTAMP:20260421T204949
CREATED:20190401T190303Z
LAST-MODIFIED:20190401T190303Z
UID:1561-1562445000-1562455800@pleaserock.com
SUMMARY:Yacht Rock Revue at The Music Farm
DESCRIPTION:
URL:https://pleaserock.com/event/yacht-rock-revue-at-the-music-farm/
LOCATION:The Music Farm\, 32 Ann St\, Charleston\, SC\, 29403\, United States
CATEGORIES:Yacht Rock
END:VEVENT
BEGIN:VEVENT
DTSTART;TZID=UTC:20190628T200000
DTEND;TZID=UTC:20190628T230000
DTSTAMP:20260421T204949
CREATED:20190123T153442Z
LAST-MODIFIED:20190123T153442Z
UID:1509-1561752000-1561762800@pleaserock.com
SUMMARY:Yacht Rock Revue at Florida Theatre
DESCRIPTION:
URL:https://pleaserock.com/event/yacht-rock-revue-at-florida-theatre/
LOCATION:Florida Theatre\, 128 E Forsyth Street\, Jacksonville\, FL\, 32202\, United States
CATEGORIES:Yacht Rock
END:VEVENT
BEGIN:VEVENT
DTSTART;TZID=UTC:20190628T190000
DTEND;TZID=UTC:20190628T230000
DTSTAMP:20260421T204949
CREATED:20190508T150300Z
LAST-MODIFIED:20190514T145856Z
UID:1589-1561748400-1561762800@pleaserock.com
SUMMARY:Yacht Rock Schooner @ Park Tavern
DESCRIPTION:
URL:https://pleaserock.com/event/yacht-rock-schooner-park-tavern-4/
LOCATION:Park Tavern\, Atlanta\, GA\, United States
CATEGORIES:Yacht Rock Schooner
END:VEVENT
BEGIN:VEVENT
DTSTART;TZID=UTC:20190627T200000
DTEND;TZID=UTC:20190627T230000
DTSTAMP:20260421T204949
CREATED:20190312T213626Z
LAST-MODIFIED:20190312T213626Z
UID:1538-1561665600-1561676400@pleaserock.com
SUMMARY:Yacht Rock Revue at Jannus Live
DESCRIPTION:
URL:https://pleaserock.com/event/yacht-rock-revue-at-jannus-live-2/
LOCATION:Jannus Live\, 200 1st Ave N\, St. Petersburg\, FL\, 33701\, United States
CATEGORIES:Yacht Rock
END:VEVENT
BEGIN:VEVENT
DTSTART;TZID=UTC:20190621T210000
DTEND;TZID=UTC:20190621T230000
DTSTAMP:20260421T204949
CREATED:20190412T184706Z
LAST-MODIFIED:20190604T214138Z
UID:1572-1561150800-1561158000@pleaserock.com
SUMMARY:Yacht Rock Revue at Sweetland Ampitheatre
DESCRIPTION:
URL:https://pleaserock.com/event/yacht-rock-revue-at-sweetland-ampitheatre/
LOCATION:Sweetland Ampitheatre\, LaGrange\, GA\, United States
CATEGORIES:Yacht Rock
END:VEVENT
BEGIN:VEVENT
DTSTART;TZID=UTC:20190620T200000
DTEND;TZID=UTC:20190620T213000
DTSTAMP:20260421T204949
CREATED:20190605T160935Z
LAST-MODIFIED:20190605T160935Z
UID:1624-1561060800-1561066200@pleaserock.com
SUMMARY:Yacht Rock Schooner Trio @ Venkman's
DESCRIPTION:
URL:https://pleaserock.com/event/yacht-rock-schooner-trio-venkmans/
LOCATION:Venkman’s\, 740 Ralph McGill Blvd\, Atlanta\, GA\, 30312\, United States
CATEGORIES:Yacht Rock Schooner
END:VEVENT
BEGIN:VEVENT
DTSTART;TZID=UTC:20190616T190000
DTEND;TZID=UTC:20190616T220000
DTSTAMP:20260421T204949
CREATED:20181204T155943Z
LAST-MODIFIED:20181204T155943Z
UID:1455-1560711600-1560722400@pleaserock.com
SUMMARY:Yacht Rock Revue at House of Blues
DESCRIPTION:
URL:https://pleaserock.com/event/yacht-rock-revue-at-house-of-blues-8/
LOCATION:House of Blues Dallas\, 2200 N Lamar St\, Dallas\, TX\, 75202\, United States
CATEGORIES:Yacht Rock
END:VEVENT
BEGIN:VEVENT
DTSTART;TZID=UTC:20190615T210000
DTEND;TZID=UTC:20190615T230000
DTSTAMP:20260421T204949
CREATED:20190514T150744Z
LAST-MODIFIED:20190514T150744Z
UID:1618-1560632400-1560639600@pleaserock.com
SUMMARY:Yacht Rock Schooner @ Original Brooklyn Cantina
DESCRIPTION:
URL:https://pleaserock.com/event/yacht-rock-schooner-original-brooklyn-cantina/
LOCATION:Original Brooklyn Cantina\, 9945 Jones Bridge Rd\, Ste 301\, Johns Creek\, GA\, 30022\, United States
CATEGORIES:Yacht Rock Schooner
END:VEVENT
BEGIN:VEVENT
DTSTART;TZID=UTC:20190614T190000
DTEND;TZID=UTC:20190614T220000
DTSTAMP:20260421T204949
CREATED:20181204T155849Z
LAST-MODIFIED:20181204T155849Z
UID:1452-1560538800-1560549600@pleaserock.com
SUMMARY:Yacht Rock Revue at The Scoot Inn
DESCRIPTION:
URL:https://pleaserock.com/event/yacht-rock-revue-at-the-scoot-inn/
LOCATION:The Scoot Inn\, Austin\, TX\, United States
CATEGORIES:Yacht Rock
END:VEVENT
BEGIN:VEVENT
DTSTART;TZID=UTC:20190613T190000
DTEND;TZID=UTC:20190613T220000
DTSTAMP:20260421T204949
CREATED:20181204T155745Z
LAST-MODIFIED:20181204T155745Z
UID:1450-1560452400-1560463200@pleaserock.com
SUMMARY:Yacht Rock Revue at House of Blues
DESCRIPTION:
URL:https://pleaserock.com/event/yacht-rock-revue-at-house-of-blues-7/
LOCATION:House of Blues Houston\, Houston\, TX\, United States
CATEGORIES:Yacht Rock
END:VEVENT
BEGIN:VEVENT
DTSTART;TZID=UTC:20190609T190000
DTEND;TZID=UTC:20190609T220000
DTSTAMP:20260421T204949
CREATED:20190509T203649Z
LAST-MODIFIED:20190509T203649Z
UID:1597-1560106800-1560117600@pleaserock.com
SUMMARY:Yacht Rock Revue Unplugged @ Venkman's
DESCRIPTION:
URL:https://pleaserock.com/event/yacht-rock-revue-unplugged-venkmans-4/
LOCATION:Venkman’s\, 740 Ralph McGill Blvd\, Atlanta\, GA\, 30312\, United States
CATEGORIES:Yacht Rock
END:VEVENT
BEGIN:VEVENT
DTSTART;TZID=UTC:20190608T190000
DTEND;TZID=UTC:20190608T220000
DTSTAMP:20260421T204949
CREATED:20181204T155558Z
LAST-MODIFIED:20181204T155558Z
UID:1448-1560020400-1560031200@pleaserock.com
SUMMARY:Yacht Rock Revue at The Fillmore
DESCRIPTION:
URL:https://pleaserock.com/event/yacht-rock-revue-at-the-fillmore/
LOCATION:The Fillmore Charlotte\, 820 Hamilton St\, Charlotte\, NC\, 28206\, United States
CATEGORIES:Yacht Rock
END:VEVENT
BEGIN:VEVENT
DTSTART;TZID=UTC:20190607T190000
DTEND;TZID=UTC:20190607T220000
DTSTAMP:20260421T204949
CREATED:20181204T155459Z
LAST-MODIFIED:20181204T161955Z
UID:1446-1559934000-1559944800@pleaserock.com
SUMMARY:Yacht Rock Revue at The Ritz
DESCRIPTION:
URL:https://pleaserock.com/event/yacht-rock-revue-at-lincoln-theatre/
LOCATION:The Ritz\, Raleigh\, NC\, United States
CATEGORIES:Yacht Rock
END:VEVENT
BEGIN:VEVENT
DTSTART;TZID=UTC:20190606T190000
DTEND;TZID=UTC:20190606T220000
DTSTAMP:20260421T204949
CREATED:20181203T224131Z
LAST-MODIFIED:20181204T153133Z
UID:1401-1559847600-1559858400@pleaserock.com
SUMMARY:Yacht Rock Revue at The Orange Peel
DESCRIPTION:
URL:https://pleaserock.com/event/yacht-rock-revue-at-the-orange-peel-2/
LOCATION:The Orange Peel\, 101 Biltmore Ave\, Asheville\, NC\, 28801\, United States
CATEGORIES:Yacht Rock
END:VEVENT
BEGIN:VEVENT
DTSTART;TZID=UTC:20190601T190000
DTEND;TZID=UTC:20190601T213000
DTSTAMP:20260421T204949
CREATED:20190417T165628Z
LAST-MODIFIED:20190417T165628Z
UID:1578-1559415600-1559424600@pleaserock.com
SUMMARY:Yacht Rock Schooner @ Lilburn Rock The Park
DESCRIPTION:
URL:https://pleaserock.com/event/yacht-rock-schooner-lilburn-rock-the-park/
LOCATION:Lilburn City Park\, 76 Main St.\, Lilburn\, GA\, United States
CATEGORIES:Yacht Rock Schooner
END:VEVENT
BEGIN:VEVENT
DTSTART;TZID=UTC:20190601T180000
DTEND;TZID=UTC:20190601T220000
DTSTAMP:20260421T204949
CREATED:20190416T162511Z
LAST-MODIFIED:20190416T162511Z
UID:1575-1559412000-1559426400@pleaserock.com
SUMMARY:Yacht Rock Revue at SliceFest
DESCRIPTION:
URL:https://pleaserock.com/event/yacht-rock-revue-at-slicefest/
LOCATION:Slice Pizza & Brew\, 3104 Timberlake Dr\, Vestavia Hills\, AL\, 35243\, United States
CATEGORIES:Yacht Rock
END:VEVENT
BEGIN:VEVENT
DTSTART;TZID=UTC:20190531T190000
DTEND;TZID=UTC:20190531T230000
DTSTAMP:20260421T204949
CREATED:20190508T150021Z
LAST-MODIFIED:20190508T150021Z
UID:1587-1559329200-1559343600@pleaserock.com
SUMMARY:Yacht Rock Schooner @ Park Tavern
DESCRIPTION:
URL:https://pleaserock.com/event/yacht-rock-schooner-park-tavern-3/
LOCATION:Park Tavern\, Atlanta\, GA\, United States
CATEGORIES:Yacht Rock Schooner
END:VEVENT
BEGIN:VEVENT
DTSTART;TZID=UTC:20190531T190000
DTEND;TZID=UTC:20190531T220000
DTSTAMP:20260421T204949
CREATED:20181203T224028Z
LAST-MODIFIED:20181204T153112Z
UID:1398-1559329200-1559340000@pleaserock.com
SUMMARY:Yacht Rock Revue at Marathon Music Works
DESCRIPTION:
URL:https://pleaserock.com/event/yacht-rock-revue-at-marathon-music-works/
LOCATION:Marathon Music Works\, 1402 Clinton St\, Nashville\, TN\, 37203\, United States
CATEGORIES:Yacht Rock
END:VEVENT
BEGIN:VEVENT
DTSTART;TZID=UTC:20190519T190000
DTEND;TZID=UTC:20190519T220000
DTSTAMP:20260421T204949
CREATED:20181203T223748Z
LAST-MODIFIED:20181204T153051Z
UID:1395-1558292400-1558303200@pleaserock.com
SUMMARY:Yacht Rock Revue at The Van Buren
DESCRIPTION:
URL:https://pleaserock.com/event/yacht-rock-revue-at-the-van-buren/
LOCATION:The Van Buren\, 401 W Van Buren St\, Phoenix\, AZ\, 85003\, United States
CATEGORIES:Yacht Rock
END:VEVENT
END:VCALENDAR