BEGIN:VCALENDAR
VERSION:2.0
PRODID:-//PleaseRock - ECPv6.9.0//NONSGML v1.0//EN
CALSCALE:GREGORIAN
METHOD:PUBLISH
X-WR-CALNAME:PleaseRock
X-ORIGINAL-URL:https://pleaserock.com
X-WR-CALDESC:Events for PleaseRock
REFRESH-INTERVAL;VALUE=DURATION:PT1H
X-Robots-Tag:noindex
X-PUBLISHED-TTL:PT1H
BEGIN:VTIMEZONE
TZID:UTC
BEGIN:STANDARD
TZOFFSETFROM:+0000
TZOFFSETTO:+0000
TZNAME:UTC
DTSTART:20180101T000000
END:STANDARD
END:VTIMEZONE
BEGIN:VEVENT
DTSTART;TZID=UTC:20190321T203000
DTEND;TZID=UTC:20190321T233000
DTSTAMP:20260422T231427
CREATED:20190109T163130Z
LAST-MODIFIED:20190109T163130Z
UID:1493-1553200200-1553211000@pleaserock.com
SUMMARY:Yacht Rock Revue at Georgia Theatre (Stop Making Sense Show)
DESCRIPTION:
URL:https://pleaserock.com/event/yacht-rock-revue-at-georgia-theatre-stop-making-sense-show/
LOCATION:Georgia Theatre\, Athens\, GA\, United States
CATEGORIES:Yacht Rock
END:VEVENT
BEGIN:VEVENT
DTSTART;TZID=UTC:20190310T190000
DTEND;TZID=UTC:20190310T210000
DTSTAMP:20260422T231427
CREATED:20190213T164118Z
LAST-MODIFIED:20190213T164118Z
UID:1523-1552244400-1552251600@pleaserock.com
SUMMARY:Yacht Rock Revue Unplugged
DESCRIPTION:
URL:https://pleaserock.com/event/yacht-rock-revue-unplugged-2/
LOCATION:Venkman’s\, 740 Ralph McGill Blvd\, Atlanta\, GA\, 30312\, United States
CATEGORIES:Yacht Rock
END:VEVENT
BEGIN:VEVENT
DTSTART;TZID=UTC:20190309T210000
DTEND;TZID=UTC:20190309T223000
DTSTAMP:20260422T231427
CREATED:20190124T211835Z
LAST-MODIFIED:20190124T211835Z
UID:1511-1552165200-1552170600@pleaserock.com
SUMMARY:Yacht Rock Schooner @ The Loft
DESCRIPTION:
URL:https://pleaserock.com/event/yacht-rock-schooner-the-loft-2/
LOCATION:The Loft\, 1032 Broadway\, Columbus\, GA\, 31901\, United States
CATEGORIES:Yacht Rock Schooner
END:VEVENT
BEGIN:VEVENT
DTSTART;TZID=UTC:20190223T120000
DTEND;TZID=UTC:20190223T160000
DTSTAMP:20260422T231427
CREATED:20190121T164022Z
LAST-MODIFIED:20190121T164022Z
UID:1504-1550923200-1550937600@pleaserock.com
SUMMARY:Yacht Rock Revue at Park Tavern
DESCRIPTION:
URL:https://pleaserock.com/event/yacht-rock-revue-at-park-tavern-4/
LOCATION:Park Tavern\, Atlanta\, GA\, United States
CATEGORIES:Yacht Rock
END:VEVENT
BEGIN:VEVENT
DTSTART;TZID=UTC:20190215T200000
DTEND;TZID=UTC:20190215T220000
DTSTAMP:20260422T231427
CREATED:20181219T155843Z
LAST-MODIFIED:20181219T155843Z
UID:1465-1550260800-1550268000@pleaserock.com
SUMMARY:Yacht Rock Schooner @ Park Tavern
DESCRIPTION:
URL:https://pleaserock.com/event/yacht-rock-schooner-park-tavern/
LOCATION:Park Tavern\, Atlanta\, GA\, United States
CATEGORIES:Yacht Rock Schooner
END:VEVENT
BEGIN:VEVENT
DTSTART;TZID=UTC:20190210T190000
DTEND;TZID=UTC:20190210T210000
DTSTAMP:20260422T231427
CREATED:20190103T183850Z
LAST-MODIFIED:20190103T184026Z
UID:1486-1549825200-1549832400@pleaserock.com
SUMMARY:Yacht Rock Revue UNPLUGGED at Venkman's
DESCRIPTION:
URL:https://pleaserock.com/event/yacht-rock-revue-unplugged-venkmans-3/
LOCATION:Venkman’s\, 740 Ralph McGill Blvd\, Atlanta\, GA\, 30312\, United States
CATEGORIES:Yacht Rock
END:VEVENT
BEGIN:VEVENT
DTSTART;TZID=UTC:20190209T213000
DTEND;TZID=UTC:20190209T233000
DTSTAMP:20260422T231427
CREATED:20190103T183200Z
LAST-MODIFIED:20190103T183253Z
UID:1479-1549747800-1549755000@pleaserock.com
SUMMARY:Yacht Rock Schooner @ Grazing Here
DESCRIPTION:
URL:https://pleaserock.com/event/yacht-rock-schooner-grazing-here/
LOCATION:Grazing Here\, Peachtree City\, GA\, 30269\, United States
CATEGORIES:Yacht Rock Schooner
END:VEVENT
BEGIN:VEVENT
DTSTART;TZID=UTC:20190201T183000
DTEND;TZID=UTC:20190201T233000
DTSTAMP:20260422T231427
CREATED:20190122T203443Z
LAST-MODIFIED:20190122T231959Z
UID:1506-1549045800-1549063800@pleaserock.com
SUMMARY:Yacht Rock Schooner @ Score Atlanta/Gorilla Marketing Super Bowl Party
DESCRIPTION:
URL:https://pleaserock.com/event/yacht-rock-schooner-score-atlanta-super-bowl-party/
LOCATION:Venkman’s\, 740 Ralph McGill Blvd\, Atlanta\, GA\, 30312\, United States
CATEGORIES:Yacht Rock Schooner
END:VEVENT
BEGIN:VEVENT
DTSTART;TZID=UTC:20190119T200000
DTEND;TZID=UTC:20190119T220000
DTSTAMP:20260422T231427
CREATED:20190103T183644Z
LAST-MODIFIED:20190103T183644Z
UID:1484-1547928000-1547935200@pleaserock.com
SUMMARY:Yacht Rock Revue at Venkman's
DESCRIPTION:
URL:https://pleaserock.com/event/yacht-rock-revue-at-venkmans-10/
LOCATION:Venkman’s\, 740 Ralph McGill Blvd\, Atlanta\, GA\, 30312\, United States
CATEGORIES:Yacht Rock
END:VEVENT
BEGIN:VEVENT
DTSTART;TZID=UTC:20190118T200000
DTEND;TZID=UTC:20190118T220000
DTSTAMP:20260422T231427
CREATED:20190103T183548Z
LAST-MODIFIED:20190103T183548Z
UID:1482-1547841600-1547848800@pleaserock.com
SUMMARY:Yacht Rock Revue at Venkman's
DESCRIPTION:
URL:https://pleaserock.com/event/yacht-rock-revue-at-venkmans-9/
LOCATION:Venkman’s\, 740 Ralph McGill Blvd\, Atlanta\, GA\, 30312\, United States
CATEGORIES:Yacht Rock
END:VEVENT
BEGIN:VEVENT
DTSTART;TZID=UTC:20190117T193000
DTEND;TZID=UTC:20190117T213000
DTSTAMP:20260422T231427
CREATED:20181119T162747Z
LAST-MODIFIED:20181119T162747Z
UID:1369-1547753400-1547760600@pleaserock.com
SUMMARY:Yacht Rock Revue at Alys Beach
DESCRIPTION:
URL:https://pleaserock.com/event/yacht-rock-revue-at-alys-beach/
LOCATION:Alys Beach\, 9581 E County Hwy 30A\, Alys Beach\, FL\, 32461\, United States
CATEGORIES:Yacht Rock
END:VEVENT
BEGIN:VEVENT
DTSTART;TZID=UTC:20190112T213000
DTEND;TZID=UTC:20190112T233000
DTSTAMP:20260422T231427
CREATED:20181127T180154Z
LAST-MODIFIED:20181127T180154Z
UID:1380-1547328600-1547335800@pleaserock.com
SUMMARY:Yacht Rock Schooner @ Venkman's
DESCRIPTION:
URL:https://pleaserock.com/event/yacht-rock-schooner-venkmans/
LOCATION:Venkman’s\, 740 Ralph McGill Blvd\, Atlanta\, GA\, 30312\, United States
CATEGORIES:Yacht Rock Schooner
END:VEVENT
BEGIN:VEVENT
DTSTART;TZID=UTC:20190112T210000
DTEND;TZID=UTC:20190112T230000
DTSTAMP:20260422T231427
CREATED:20181127T174456Z
LAST-MODIFIED:20181127T174456Z
UID:1374-1547326800-1547334000@pleaserock.com
SUMMARY:Yacht Rock Revue at Georgia Theatre
DESCRIPTION:
URL:https://pleaserock.com/event/yacht-rock-revue-at-georgia-theatre-3/
LOCATION:Georgia Theatre\, Athens\, GA\, United States
CATEGORIES:Yacht Rock
END:VEVENT
BEGIN:VEVENT
DTSTART;TZID=UTC:20190111T200000
DTEND;TZID=UTC:20190111T220000
DTSTAMP:20260422T231427
CREATED:20181127T175507Z
LAST-MODIFIED:20181127T175507Z
UID:1378-1547236800-1547244000@pleaserock.com
SUMMARY:Yacht Rock Revue at Venkman's: Led Zeppelin vs. the Who\, a Rock Fight
DESCRIPTION:
URL:https://pleaserock.com/event/yacht-rock-revue-at-venkmans-led-zeppelin-vs-the-who-a-rock-fight-2/
LOCATION:Venkman’s\, 740 Ralph McGill Blvd\, Atlanta\, GA\, 30312\, United States
CATEGORIES:Yacht Rock
END:VEVENT
BEGIN:VEVENT
DTSTART;TZID=UTC:20190110T200000
DTEND;TZID=UTC:20190110T220000
DTSTAMP:20260422T231427
CREATED:20181127T175340Z
LAST-MODIFIED:20181127T175340Z
UID:1376-1547150400-1547157600@pleaserock.com
SUMMARY:Yacht Rock Revue at Venkman's: Led Zeppelin vs. the Who\, a Rock Fight
DESCRIPTION:
URL:https://pleaserock.com/event/yacht-rock-revue-at-venkmans-led-zeppelin-vs-the-who-a-rock-fight/
LOCATION:Venkman’s\, 740 Ralph McGill Blvd\, Atlanta\, GA\, 30312\, United States
CATEGORIES:Yacht Rock
END:VEVENT
BEGIN:VEVENT
DTSTART;TZID=UTC:20181231T210000
DTEND;TZID=UTC:20190101T020000
DTSTAMP:20260422T231427
CREATED:20181105T160846Z
LAST-MODIFIED:20181105T161102Z
UID:1358-1546290000-1546308000@pleaserock.com
SUMMARY:Yacht Rock Revue at Park Tavern
DESCRIPTION:
URL:https://pleaserock.com/event/yacht-rock-revue-at-park-tavern-3/
LOCATION:Park Tavern\, Atlanta\, GA\, United States
CATEGORIES:Yacht Rock
END:VEVENT
BEGIN:VEVENT
DTSTART;TZID=UTC:20181230T190000
DTEND;TZID=UTC:20181230T203000
DTSTAMP:20260422T231427
CREATED:20181204T153312Z
LAST-MODIFIED:20181204T153312Z
UID:1405-1546196400-1546201800@pleaserock.com
SUMMARY:Nick (from YRR) and Tim at Venkman's
DESCRIPTION:
URL:https://pleaserock.com/event/nick-from-yrr-and-tim-at-venkmans/
LOCATION:Venkman’s\, 740 Ralph McGill Blvd\, Atlanta\, GA\, 30312\, United States
CATEGORIES:Yacht Rock
END:VEVENT
BEGIN:VEVENT
DTSTART;TZID=UTC:20181228T200000
DTEND;TZID=UTC:20181228T220000
DTSTAMP:20260422T231427
CREATED:20181001T170544Z
LAST-MODIFIED:20181001T170544Z
UID:1345-1546027200-1546034400@pleaserock.com
SUMMARY:Yacht Rock Revue at Alabama Theatre
DESCRIPTION:
URL:https://pleaserock.com/event/yacht-rock-revue-at-alabama-theatre/
LOCATION:Alabama Theatre\, 1817 Third Ave N\, Birmingham\, AL\, 35203\, United States
CATEGORIES:Yacht Rock
END:VEVENT
BEGIN:VEVENT
DTSTART;TZID=UTC:20181223T190000
DTEND;TZID=UTC:20181223T210000
DTSTAMP:20260422T231427
CREATED:20181127T204342Z
LAST-MODIFIED:20181127T204342Z
UID:1382-1545591600-1545598800@pleaserock.com
SUMMARY:Yacht Rock Schooner @ MadLife Stage & Studios
DESCRIPTION:
URL:https://pleaserock.com/event/yacht-rock-schooner-madlife-stage-studios-5/
LOCATION:MadLife Stage & Studios\, Woodstock\, Georgia
CATEGORIES:Yacht Rock Schooner
END:VEVENT
BEGIN:VEVENT
DTSTART;TZID=UTC:20181221T210000
DTEND;TZID=UTC:20181221T230000
DTSTAMP:20260422T231427
CREATED:20181017T184035Z
LAST-MODIFIED:20181017T184035Z
UID:1351-1545426000-1545433200@pleaserock.com
SUMMARY:Yacht Rock Schooner @ The Vista Room
DESCRIPTION:
URL:https://pleaserock.com/event/yacht-rock-schooner-the-vista-room-3/
LOCATION:Vista Room\, 2836 Lavista Rd\, Decatur\, GA\, 30033\, United States
CATEGORIES:Yacht Rock Schooner
END:VEVENT
BEGIN:VEVENT
DTSTART;TZID=UTC:20181215T200000
DTEND;TZID=UTC:20181215T220000
DTSTAMP:20260422T231427
CREATED:20181105T160625Z
LAST-MODIFIED:20181105T161038Z
UID:1356-1544904000-1544911200@pleaserock.com
SUMMARY:Yacht Rock Revue at Coca Cola Roxy
DESCRIPTION:
URL:https://pleaserock.com/event/yacht-rock-revue-coca-cola-roxy/
LOCATION:Coca Cola Roxy\, 800 Battery Ave SE #500\, Atlanta\, GA\, 30339\, United States
CATEGORIES:Yacht Rock
END:VEVENT
BEGIN:VEVENT
DTSTART;TZID=UTC:20181211T200000
DTEND;TZID=UTC:20181211T220000
DTSTAMP:20260422T231427
CREATED:20181001T170336Z
LAST-MODIFIED:20181001T170336Z
UID:1342-1544558400-1544565600@pleaserock.com
SUMMARY:Yacht Rock Revue at Miller Theater
DESCRIPTION:
URL:https://pleaserock.com/event/yacht-rock-revue-at-miller-theater/
LOCATION:Miller Theater\, 708 Broad St\, Augusta\, GA\, 30901\, United States
CATEGORIES:Yacht Rock
END:VEVENT
BEGIN:VEVENT
DTSTART;TZID=UTC:20181207T203000
DTEND;TZID=UTC:20181207T223000
DTSTAMP:20260422T231427
CREATED:20181001T162610Z
LAST-MODIFIED:20181001T162610Z
UID:1340-1544214600-1544221800@pleaserock.com
SUMMARY:Yacht Rock Revue at The Signal
DESCRIPTION:
URL:https://pleaserock.com/event/yacht-rock-revue-at-the-signal/
LOCATION:The Signal\, 1810 Chestnut St\, Chattanooga\, TN\, 37408\, United States
CATEGORIES:Yacht Rock
END:VEVENT
BEGIN:VEVENT
DTSTART;TZID=UTC:20181201T210000
DTEND;TZID=UTC:20181201T230000
DTSTAMP:20260422T231427
CREATED:20180924T160029Z
LAST-MODIFIED:20180924T160029Z
UID:1329-1543698000-1543705200@pleaserock.com
SUMMARY:Yacht Rock Revue at Egyptian Room at Old National Centre
DESCRIPTION:
URL:https://pleaserock.com/event/yacht-rock-revue-at-egyptian-room-at-old-national-centre/
LOCATION:Egyptian Room at Old National Centre\, 502 N New Jersey St\, Indianapolis\, IN\, United States
CATEGORIES:Yacht Rock
END:VEVENT
BEGIN:VEVENT
DTSTART;TZID=UTC:20181130T213000
DTEND;TZID=UTC:20181130T233000
DTSTAMP:20260422T231427
CREATED:20181004T144629Z
LAST-MODIFIED:20181004T144629Z
UID:1349-1543613400-1543620600@pleaserock.com
SUMMARY:Yacht Rock Schooner @ Rome Brewhouse
DESCRIPTION:
URL:https://pleaserock.com/event/yacht-rock-schooner-rome-brewhouse/
LOCATION:Brewhouse Music & Grill\, 325 Broad St\, Rome\, GA\, 30161\, United States
CATEGORIES:Yacht Rock Schooner
END:VEVENT
BEGIN:VEVENT
DTSTART;TZID=UTC:20181123T200000
DTEND;TZID=UTC:20181123T230000
DTSTAMP:20260422T231427
CREATED:20181119T174712Z
LAST-MODIFIED:20181119T174712Z
UID:1372-1543003200-1543014000@pleaserock.com
SUMMARY:Yacht Rock Revue at Venkman's
DESCRIPTION:
URL:https://pleaserock.com/event/yacht-rock-revue-at-venkmans-8/
LOCATION:Venkman’s\, 740 Ralph McGill Blvd\, Atlanta\, GA\, 30312\, United States
CATEGORIES:Yacht Rock
END:VEVENT
BEGIN:VEVENT
DTSTART;TZID=UTC:20181121T200000
DTEND;TZID=UTC:20181121T230000
DTSTAMP:20260422T231427
CREATED:20180926T150735Z
LAST-MODIFIED:20180926T150735Z
UID:1335-1542830400-1542841200@pleaserock.com
SUMMARY:Yacht Rock Revue at Venkman's
DESCRIPTION:
URL:https://pleaserock.com/event/yacht-rock-revue-at-venkmans-7/
LOCATION:Venkman’s\, 740 Ralph McGill Blvd\, Atlanta\, GA\, 30312\, United States
CATEGORIES:Yacht Rock
END:VEVENT
BEGIN:VEVENT
DTSTART;TZID=UTC:20181116T210000
DTEND;TZID=UTC:20181116T230000
DTSTAMP:20260422T231427
CREATED:20180926T170926Z
LAST-MODIFIED:20180926T203257Z
UID:1337-1542402000-1542409200@pleaserock.com
SUMMARY:Yacht Rock Schooner @ Jimmy's Tequila
DESCRIPTION:
URL:https://pleaserock.com/event/yacht-rock-schooner-jimmys-tequila-2/
LOCATION:Jimmy’s Tequila\, 6365 Peachtree Industrial Blvd\, Doraville\, GA\, 30360\, United States
CATEGORIES:Yacht Rock Schooner
END:VEVENT
BEGIN:VEVENT
DTSTART;TZID=UTC:20181112T193000
DTEND;TZID=UTC:20181112T213000
DTSTAMP:20260422T231427
CREATED:20180530T144710Z
LAST-MODIFIED:20180530T144710Z
UID:1218-1542051000-1542058200@pleaserock.com
SUMMARY:Yacht Rock Revue at The Hamilton Live
DESCRIPTION:
URL:https://pleaserock.com/event/yacht-rock-revue-at-the-hamilton-live/
LOCATION:The Hamilton Live\, 600 14th St NW\, Washington\, DC\, 20005\, United States
CATEGORIES:Yacht Rock
END:VEVENT
BEGIN:VEVENT
DTSTART;TZID=UTC:20181111T193000
DTEND;TZID=UTC:20181111T223000
DTSTAMP:20260422T231427
CREATED:20180521T144931Z
LAST-MODIFIED:20180521T144931Z
UID:1204-1541964600-1541975400@pleaserock.com
SUMMARY:Yacht Rock Revue at The Hamilton
DESCRIPTION:
URL:https://pleaserock.com/event/yacht-rock-revue-at-the-hamilton/
LOCATION:The Hamilton Live\, 600 14th St NW\, Washington\, DC\, 20005\, United States
CATEGORIES:Yacht Rock
END:VEVENT
END:VCALENDAR