BEGIN:VCALENDAR
VERSION:2.0
PRODID:-//PleaseRock - ECPv6.9.0//NONSGML v1.0//EN
CALSCALE:GREGORIAN
METHOD:PUBLISH
X-WR-CALNAME:PleaseRock
X-ORIGINAL-URL:https://pleaserock.com
X-WR-CALDESC:Events for PleaseRock
REFRESH-INTERVAL;VALUE=DURATION:PT1H
X-Robots-Tag:noindex
X-PUBLISHED-TTL:PT1H
BEGIN:VTIMEZONE
TZID:UTC
BEGIN:STANDARD
TZOFFSETFROM:+0000
TZOFFSETTO:+0000
TZNAME:UTC
DTSTART:20180101T000000
END:STANDARD
END:VTIMEZONE
BEGIN:VEVENT
DTSTART;TZID=UTC:20181215T200000
DTEND;TZID=UTC:20181215T220000
DTSTAMP:20260422T114530
CREATED:20181105T160625Z
LAST-MODIFIED:20181105T161038Z
UID:1356-1544904000-1544911200@pleaserock.com
SUMMARY:Yacht Rock Revue at Coca Cola Roxy
DESCRIPTION:
URL:https://pleaserock.com/event/yacht-rock-revue-coca-cola-roxy/
LOCATION:Coca Cola Roxy\, 800 Battery Ave SE #500\, Atlanta\, GA\, 30339\, United States
CATEGORIES:Yacht Rock
END:VEVENT
BEGIN:VEVENT
DTSTART;TZID=UTC:20181211T200000
DTEND;TZID=UTC:20181211T220000
DTSTAMP:20260422T114530
CREATED:20181001T170336Z
LAST-MODIFIED:20181001T170336Z
UID:1342-1544558400-1544565600@pleaserock.com
SUMMARY:Yacht Rock Revue at Miller Theater
DESCRIPTION:
URL:https://pleaserock.com/event/yacht-rock-revue-at-miller-theater/
LOCATION:Miller Theater\, 708 Broad St\, Augusta\, GA\, 30901\, United States
CATEGORIES:Yacht Rock
END:VEVENT
BEGIN:VEVENT
DTSTART;TZID=UTC:20181207T203000
DTEND;TZID=UTC:20181207T223000
DTSTAMP:20260422T114530
CREATED:20181001T162610Z
LAST-MODIFIED:20181001T162610Z
UID:1340-1544214600-1544221800@pleaserock.com
SUMMARY:Yacht Rock Revue at The Signal
DESCRIPTION:
URL:https://pleaserock.com/event/yacht-rock-revue-at-the-signal/
LOCATION:The Signal\, 1810 Chestnut St\, Chattanooga\, TN\, 37408\, United States
CATEGORIES:Yacht Rock
END:VEVENT
BEGIN:VEVENT
DTSTART;TZID=UTC:20181201T210000
DTEND;TZID=UTC:20181201T230000
DTSTAMP:20260422T114530
CREATED:20180924T160029Z
LAST-MODIFIED:20180924T160029Z
UID:1329-1543698000-1543705200@pleaserock.com
SUMMARY:Yacht Rock Revue at Egyptian Room at Old National Centre
DESCRIPTION:
URL:https://pleaserock.com/event/yacht-rock-revue-at-egyptian-room-at-old-national-centre/
LOCATION:Egyptian Room at Old National Centre\, 502 N New Jersey St\, Indianapolis\, IN\, United States
CATEGORIES:Yacht Rock
END:VEVENT
BEGIN:VEVENT
DTSTART;TZID=UTC:20181130T213000
DTEND;TZID=UTC:20181130T233000
DTSTAMP:20260422T114530
CREATED:20181004T144629Z
LAST-MODIFIED:20181004T144629Z
UID:1349-1543613400-1543620600@pleaserock.com
SUMMARY:Yacht Rock Schooner @ Rome Brewhouse
DESCRIPTION:
URL:https://pleaserock.com/event/yacht-rock-schooner-rome-brewhouse/
LOCATION:Brewhouse Music & Grill\, 325 Broad St\, Rome\, GA\, 30161\, United States
CATEGORIES:Yacht Rock Schooner
END:VEVENT
BEGIN:VEVENT
DTSTART;TZID=UTC:20181123T200000
DTEND;TZID=UTC:20181123T230000
DTSTAMP:20260422T114530
CREATED:20181119T174712Z
LAST-MODIFIED:20181119T174712Z
UID:1372-1543003200-1543014000@pleaserock.com
SUMMARY:Yacht Rock Revue at Venkman's
DESCRIPTION:
URL:https://pleaserock.com/event/yacht-rock-revue-at-venkmans-8/
LOCATION:Venkman’s\, 740 Ralph McGill Blvd\, Atlanta\, GA\, 30312\, United States
CATEGORIES:Yacht Rock
END:VEVENT
BEGIN:VEVENT
DTSTART;TZID=UTC:20181121T200000
DTEND;TZID=UTC:20181121T230000
DTSTAMP:20260422T114530
CREATED:20180926T150735Z
LAST-MODIFIED:20180926T150735Z
UID:1335-1542830400-1542841200@pleaserock.com
SUMMARY:Yacht Rock Revue at Venkman's
DESCRIPTION:
URL:https://pleaserock.com/event/yacht-rock-revue-at-venkmans-7/
LOCATION:Venkman’s\, 740 Ralph McGill Blvd\, Atlanta\, GA\, 30312\, United States
CATEGORIES:Yacht Rock
END:VEVENT
BEGIN:VEVENT
DTSTART;TZID=UTC:20181116T210000
DTEND;TZID=UTC:20181116T230000
DTSTAMP:20260422T114530
CREATED:20180926T170926Z
LAST-MODIFIED:20180926T203257Z
UID:1337-1542402000-1542409200@pleaserock.com
SUMMARY:Yacht Rock Schooner @ Jimmy's Tequila
DESCRIPTION:
URL:https://pleaserock.com/event/yacht-rock-schooner-jimmys-tequila-2/
LOCATION:Jimmy’s Tequila\, 6365 Peachtree Industrial Blvd\, Doraville\, GA\, 30360\, United States
CATEGORIES:Yacht Rock Schooner
END:VEVENT
BEGIN:VEVENT
DTSTART;TZID=UTC:20181112T193000
DTEND;TZID=UTC:20181112T213000
DTSTAMP:20260422T114530
CREATED:20180530T144710Z
LAST-MODIFIED:20180530T144710Z
UID:1218-1542051000-1542058200@pleaserock.com
SUMMARY:Yacht Rock Revue at The Hamilton Live
DESCRIPTION:
URL:https://pleaserock.com/event/yacht-rock-revue-at-the-hamilton-live/
LOCATION:The Hamilton Live\, 600 14th St NW\, Washington\, DC\, 20005\, United States
CATEGORIES:Yacht Rock
END:VEVENT
BEGIN:VEVENT
DTSTART;TZID=UTC:20181111T193000
DTEND;TZID=UTC:20181111T223000
DTSTAMP:20260422T114530
CREATED:20180521T144931Z
LAST-MODIFIED:20180521T144931Z
UID:1204-1541964600-1541975400@pleaserock.com
SUMMARY:Yacht Rock Revue at The Hamilton
DESCRIPTION:
URL:https://pleaserock.com/event/yacht-rock-revue-at-the-hamilton/
LOCATION:The Hamilton Live\, 600 14th St NW\, Washington\, DC\, 20005\, United States
CATEGORIES:Yacht Rock
END:VEVENT
BEGIN:VEVENT
DTSTART;TZID=UTC:20181110T220000
DTEND;TZID=UTC:20181110T233000
DTSTAMP:20260422T114530
CREATED:20180716T155807Z
LAST-MODIFIED:20180716T155807Z
UID:1273-1541887200-1541892600@pleaserock.com
SUMMARY:Yacht Rock Schooner @ 37 Main
DESCRIPTION:
URL:https://pleaserock.com/event/yacht-rock-schooner-37-main-2/
LOCATION:37 Main\, 37 E Main St NE\, Buford\, GA\, 30518\, United States
CATEGORIES:Yacht Rock Schooner
END:VEVENT
BEGIN:VEVENT
DTSTART;TZID=UTC:20181110T200000
DTEND;TZID=UTC:20181110T230000
DTSTAMP:20260422T114530
CREATED:20180613T152657Z
LAST-MODIFIED:20180613T152657Z
UID:1245-1541880000-1541890800@pleaserock.com
SUMMARY:Yacht Rock Revue at Irving Plaza
DESCRIPTION:
URL:https://pleaserock.com/event/yacht-rock-revue-at-irving-plaza-3/
LOCATION:Irving Plaza\, 17 Irving Place \, New York\, NY\, 10003\, United States
CATEGORIES:Yacht Rock
END:VEVENT
BEGIN:VEVENT
DTSTART;TZID=UTC:20181109T210000
DTEND;TZID=UTC:20181109T230000
DTSTAMP:20260422T114530
CREATED:20180820T162806Z
LAST-MODIFIED:20180820T162806Z
UID:1301-1541797200-1541804400@pleaserock.com
SUMMARY:Yacht Rock Revue at The Paramount
DESCRIPTION:
URL:https://pleaserock.com/event/yacht-rock-revue-at-the-paramount-2/
LOCATION:The Paramount\, Huntington\, NY\, United States
CATEGORIES:Yacht Rock
END:VEVENT
BEGIN:VEVENT
DTSTART;TZID=UTC:20181108T200000
DTEND;TZID=UTC:20181108T230000
DTSTAMP:20260422T114530
CREATED:20180604T154657Z
LAST-MODIFIED:20180604T154657Z
UID:1226-1541707200-1541718000@pleaserock.com
SUMMARY:Yacht Rock Revue at Starland Ballroom
DESCRIPTION:
URL:https://pleaserock.com/event/yacht-rock-revue-at-starland-ballroom/
LOCATION:Starland Ballroom\, 570 Jernee Mill Rd\, Sayreville\, NJ\, United States
CATEGORIES:Yacht Rock
END:VEVENT
BEGIN:VEVENT
DTSTART;TZID=UTC:20181103T190000
DTEND;TZID=UTC:20181103T220000
DTSTAMP:20260422T114530
CREATED:20181022T142517Z
LAST-MODIFIED:20181022T142517Z
UID:1353-1541271600-1541282400@pleaserock.com
SUMMARY:Yacht Rock Revue at Burr Performing Arts Park
DESCRIPTION:
URL:https://pleaserock.com/event/yacht-rock-revue-at-burr-performing-arts-park/
LOCATION:Burr Performing Arts Park\, 101 S Hamilton St\, Dalton\, GA\, 30720\, United States
CATEGORIES:Yacht Rock
END:VEVENT
BEGIN:VEVENT
DTSTART;TZID=UTC:20181101T200000
DTEND;TZID=UTC:20181101T230000
DTSTAMP:20260422T114530
CREATED:20180926T150620Z
LAST-MODIFIED:20180926T150620Z
UID:1333-1541102400-1541113200@pleaserock.com
SUMMARY:Yacht Rock Revue at Venkman's
DESCRIPTION:
URL:https://pleaserock.com/event/yacht-rock-revue-at-venkmans-6/
LOCATION:Venkman’s\, 740 Ralph McGill Blvd\, Atlanta\, GA\, 30312\, United States
CATEGORIES:Yacht Rock
END:VEVENT
BEGIN:VEVENT
DTSTART;TZID=UTC:20181027T190000
DTEND;TZID=UTC:20181027T220000
DTSTAMP:20260422T114530
CREATED:20180531T153409Z
LAST-MODIFIED:20180531T153409Z
UID:1224-1540666800-1540677600@pleaserock.com
SUMMARY:Yacht Rock Revue at Royale Boston
DESCRIPTION:
URL:https://pleaserock.com/event/yacht-rock-revue-at-royale-boston-2/
LOCATION:Royale\, 279 Tremont Street\, Boston\, MA\, 02216\, United States
CATEGORIES:Yacht Rock
END:VEVENT
BEGIN:VEVENT
DTSTART;TZID=UTC:20181026T190000
DTEND;TZID=UTC:20181026T220000
DTSTAMP:20260422T114530
CREATED:20180531T153314Z
LAST-MODIFIED:20180531T153314Z
UID:1222-1540580400-1540591200@pleaserock.com
SUMMARY:Yacht Rock Revue at Royale Boston
DESCRIPTION:
URL:https://pleaserock.com/event/yacht-rock-revue-at-royale-boston/
LOCATION:Royale\, 279 Tremont Street\, Boston\, MA\, 02216\, United States
CATEGORIES:Yacht Rock
END:VEVENT
BEGIN:VEVENT
DTSTART;TZID=UTC:20181025T200000
DTEND;TZID=UTC:20181025T230000
DTSTAMP:20260422T114530
CREATED:20180529T164704Z
LAST-MODIFIED:20180529T164704Z
UID:1215-1540497600-1540508400@pleaserock.com
SUMMARY:Yacht Rock Revue at Fete Music Hall
DESCRIPTION:
URL:https://pleaserock.com/event/yacht-rock-revue-at-fete-music-hall/
LOCATION:Fete Music Hall\, 103 Dike St\, Providence\, RI\, United States
CATEGORIES:Yacht Rock
END:VEVENT
BEGIN:VEVENT
DTSTART;TZID=UTC:20181020T213000
DTEND;TZID=UTC:20181020T233000
DTSTAMP:20260422T114530
CREATED:20180822T170911Z
LAST-MODIFIED:20180912T154854Z
UID:1306-1540071000-1540078200@pleaserock.com
SUMMARY:Yacht Rock Schooner @ Venkman's
DESCRIPTION:
URL:https://pleaserock.com/event/broadway-duchess-yacht-rock-schooner-plays-steely-dan-venkmans-3/
LOCATION:Venkman’s\, 740 Ralph McGill Blvd\, Atlanta\, GA\, 30312\, United States
CATEGORIES:Yacht Rock Schooner
END:VEVENT
BEGIN:VEVENT
DTSTART;TZID=UTC:20181019T200000
DTEND;TZID=UTC:20181019T230000
DTSTAMP:20260422T114530
CREATED:20180906T171959Z
LAST-MODIFIED:20180906T171959Z
UID:1319-1539979200-1539990000@pleaserock.com
SUMMARY:Yacht Rock Revue at Buckhead Theatre
DESCRIPTION:
URL:https://pleaserock.com/event/yacht-rock-revue-at-buckhead-theatre/
LOCATION:Buckhead Theatre\, 3110 Roswell Rd NE\, Atlanta\, GA\, 30305\, United States
CATEGORIES:Yacht Rock
END:VEVENT
BEGIN:VEVENT
DTSTART;TZID=UTC:20181013T193000
DTEND;TZID=UTC:20181013T220000
DTSTAMP:20260422T114530
CREATED:20180807T145046Z
LAST-MODIFIED:20180807T145046Z
UID:1294-1539459000-1539468000@pleaserock.com
SUMMARY:Yacht Rock Revue at John's Creek Newtown Park Ampitheatre
DESCRIPTION:
URL:https://pleaserock.com/event/yacht-rock-revue-at-johns-creek-newtown-park-ampitheatre/
LOCATION:Newtown Park Amphitheatre\, 3150 Old Alabama Rd\, Johns Creek\, GA\, 30022\, United States
CATEGORIES:Yacht Rock
END:VEVENT
BEGIN:VEVENT
DTSTART;TZID=UTC:20181006T210000
DTEND;TZID=UTC:20181006T230000
DTSTAMP:20260422T114530
CREATED:20180718T195030Z
LAST-MODIFIED:20180718T195030Z
UID:1281-1538859600-1538866800@pleaserock.com
SUMMARY:Yacht Rock Revue at Georgia Theatre
DESCRIPTION:
URL:https://pleaserock.com/event/yacht-rock-revue-at-georgia-theatre-2/
LOCATION:Georgia Theatre\, Athens\, GA\, United States
CATEGORIES:Yacht Rock
END:VEVENT
BEGIN:VEVENT
DTSTART;TZID=UTC:20181004T183000
DTEND;TZID=UTC:20181004T220000
DTSTAMP:20260422T114530
CREATED:20180820T170432Z
LAST-MODIFIED:20180820T170547Z
UID:1303-1538677800-1538690400@pleaserock.com
SUMMARY:Yacht Rock Revue at Callanwolde Fine Arts Center
DESCRIPTION:
URL:https://pleaserock.com/event/yacht-rock-revue-at-callanwolde-fine-arts-center/
LOCATION:Callanwolde Fine Arts Center\, 980 Briarcliff Rd NE\, Atlanta\, GA\, 30306\, United States
CATEGORIES:Yacht Rock
END:VEVENT
BEGIN:VEVENT
DTSTART;TZID=UTC:20180928T200000
DTEND;TZID=UTC:20180928T220000
DTSTAMP:20260422T114530
CREATED:20180530T150536Z
LAST-MODIFIED:20180530T150536Z
UID:1220-1538164800-1538172000@pleaserock.com
SUMMARY:Yacht Rock Revue at Frederick Brown Jr Amphitheater
DESCRIPTION:
URL:https://pleaserock.com/event/yacht-rock-revue-at-frederick-brown-jr-amphitheater-2/
LOCATION:Frederick Brown Jr Amphitheater\, 201 McIntosh Trail\, Peachtree City\, GA\, 30269\, United States
CATEGORIES:Yacht Rock
END:VEVENT
BEGIN:VEVENT
DTSTART;TZID=UTC:20180922T210000
DTEND;TZID=UTC:20180922T230000
DTSTAMP:20260422T114530
CREATED:20180912T163725Z
LAST-MODIFIED:20180912T163725Z
UID:1325-1537650000-1537657200@pleaserock.com
SUMMARY:Yacht Rock Schooner @ The Vista Room
DESCRIPTION:
URL:https://pleaserock.com/event/yacht-rock-schooner-the-vista-room-2/
LOCATION:Vista Room\, 2836 Lavista Rd\, Decatur\, GA\, 30033\, United States
CATEGORIES:Yacht Rock Schooner
END:VEVENT
BEGIN:VEVENT
DTSTART;TZID=UTC:20180921T200000
DTEND;TZID=UTC:20180921T230000
DTSTAMP:20260422T114530
CREATED:20180613T153522Z
LAST-MODIFIED:20180613T174047Z
UID:1248-1537560000-1537570800@pleaserock.com
SUMMARY:Yacht Rock Revue at Florida State University
DESCRIPTION:
URL:https://pleaserock.com/event/yacht-rock-revue-at-florida-state-university/
LOCATION:Florida State University\, Tallahassee\, FL\, United States
CATEGORIES:Yacht Rock
END:VEVENT
BEGIN:VEVENT
DTSTART;TZID=UTC:20180920T190000
DTEND;TZID=UTC:20180920T210000
DTSTAMP:20260422T114530
CREATED:20180618T163627Z
LAST-MODIFIED:20180618T163627Z
UID:1254-1537470000-1537477200@pleaserock.com
SUMMARY:Yacht Rock Revue at The Beacham
DESCRIPTION:
URL:https://pleaserock.com/event/yacht-rock-revue-at-the-beacham/
LOCATION:The Beacham\, 46 N Orange Ave\, Orlando\, FL\, United States
CATEGORIES:Yacht Rock
END:VEVENT
BEGIN:VEVENT
DTSTART;TZID=UTC:20180915T210000
DTEND;TZID=UTC:20180915T230000
DTSTAMP:20260422T114530
CREATED:20180514T182939Z
LAST-MODIFIED:20180514T182939Z
UID:1190-1537045200-1537052400@pleaserock.com
SUMMARY:Yacht Rock Revue at Ogden Theatre
DESCRIPTION:
URL:https://pleaserock.com/event/yacht-rock-revue-at-ogden-theatre/
LOCATION:The Ogden Theatre\, 935 E Colfax Ave\, Denver\, CO\, 80218\, United States
CATEGORIES:Yacht Rock
END:VEVENT
BEGIN:VEVENT
DTSTART;TZID=UTC:20180914T220000
DTEND;TZID=UTC:20180914T220000
DTSTAMP:20260422T114530
CREATED:20180806T191553Z
LAST-MODIFIED:20180806T191553Z
UID:1292-1536962400-1536962400@pleaserock.com
SUMMARY:Yacht Rock Schooner @ MadLife Stage & Studios
DESCRIPTION:
URL:https://pleaserock.com/event/yacht-rock-schooner-madlife-stage-studios-4/
LOCATION:MadLife Stage & Studios\, Woodstock\, Georgia
CATEGORIES:Yacht Rock Schooner
END:VEVENT
END:VCALENDAR