BEGIN:VCALENDAR
VERSION:2.0
PRODID:-//PleaseRock - ECPv6.9.0//NONSGML v1.0//EN
CALSCALE:GREGORIAN
METHOD:PUBLISH
X-WR-CALNAME:PleaseRock
X-ORIGINAL-URL:https://pleaserock.com
X-WR-CALDESC:Events for PleaseRock
REFRESH-INTERVAL;VALUE=DURATION:PT1H
X-Robots-Tag:noindex
X-PUBLISHED-TTL:PT1H
BEGIN:VTIMEZONE
TZID:UTC
BEGIN:STANDARD
TZOFFSETFROM:+0000
TZOFFSETTO:+0000
TZNAME:UTC
DTSTART:20180101T000000
END:STANDARD
END:VTIMEZONE
BEGIN:VEVENT
DTSTART;TZID=UTC:20180819T200000
DTEND;TZID=UTC:20180819T230000
DTSTAMP:20260422T191533
CREATED:20180529T151552Z
LAST-MODIFIED:20180529T151552Z
UID:1212-1534708800-1534719600@pleaserock.com
SUMMARY:Yacht Rock Revue at Turner Hall Ballroom
DESCRIPTION:
URL:https://pleaserock.com/event/yacht-rock-revue-at-turner-hall-ballroom/
LOCATION:Turner Hall Ballroom\, 1040 N. 4th Street\, Milwaukee\, WI\, United States
CATEGORIES:Yacht Rock
END:VEVENT
BEGIN:VEVENT
DTSTART;TZID=UTC:20180818T193000
DTEND;TZID=UTC:20180818T230000
DTSTAMP:20260422T191533
CREATED:20180409T190629Z
LAST-MODIFIED:20180409T190629Z
UID:1134-1534620600-1534633200@pleaserock.com
SUMMARY:Yacht Rock Revue at House of Blues Chicago
DESCRIPTION:
URL:https://pleaserock.com/event/yacht-rock-revue-at-house-of-blues-chicago-2/
LOCATION:House of Blues Chicago\, 329 N Dearborn St\, Chicago\, IL\, 60654\, United States
END:VEVENT
BEGIN:VEVENT
DTSTART;TZID=UTC:20180817T210000
DTEND;TZID=UTC:20180817T230000
DTSTAMP:20260422T191533
CREATED:20180716T155611Z
LAST-MODIFIED:20180716T155611Z
UID:1271-1534539600-1534546800@pleaserock.com
SUMMARY:Yacht Rock Schooner @ The Loft
DESCRIPTION:
URL:https://pleaserock.com/event/yacht-rock-schooner-the-loft/
LOCATION:The Loft\, 1032 Broadway\, Columbus\, GA\, 31901\, United States
CATEGORIES:Yacht Rock Schooner
END:VEVENT
BEGIN:VEVENT
DTSTART;TZID=UTC:20180817T200000
DTEND;TZID=UTC:20180817T220000
DTSTAMP:20260422T191533
CREATED:20180810T144629Z
LAST-MODIFIED:20180810T144629Z
UID:1296-1534536000-1534543200@pleaserock.com
SUMMARY:Yacht Rock Revue at The Vogue Theatre
DESCRIPTION:
URL:https://pleaserock.com/event/yacht-rock-revue-at-the-vogue-theatre/
LOCATION:The Vogue\, 6259 N College Ave\, Indianapolis\, IN\, 46220\, United States
CATEGORIES:Yacht Rock
END:VEVENT
BEGIN:VEVENT
DTSTART;TZID=UTC:20180816T200000
DTEND;TZID=UTC:20180816T230000
DTSTAMP:20260422T191533
CREATED:20180515T144744Z
LAST-MODIFIED:20180515T144744Z
UID:1199-1534449600-1534460400@pleaserock.com
SUMMARY:Yacht Rock Revue at Bogarts
DESCRIPTION:
URL:https://pleaserock.com/event/yacht-rock-revue-at-bogarts/
LOCATION:Bogarts\, 2621 Vine St\, Cincinnati\, OH\, 45219\, United States
CATEGORIES:Yacht Rock
END:VEVENT
BEGIN:VEVENT
DTSTART;TZID=UTC:20180811T190000
DTEND;TZID=UTC:20180811T210000
DTSTAMP:20260422T191533
CREATED:20180501T152913Z
LAST-MODIFIED:20180501T152913Z
UID:1159-1534014000-1534021200@pleaserock.com
SUMMARY:Yacht Rock Revue at Mallow Run Winery
DESCRIPTION:
URL:https://pleaserock.com/event/yacht-rock-revue-at-mallow-run-winery-2/
LOCATION:Mallow Run Winery\, 6964 W Whiteland Rd\, Bargersville\, IN\, 46106\, United States
END:VEVENT
BEGIN:VEVENT
DTSTART;TZID=UTC:20180810T190000
DTEND;TZID=UTC:20180810T220000
DTSTAMP:20260422T191533
CREATED:20180726T170344Z
LAST-MODIFIED:20180726T170344Z
UID:1285-1533927600-1533938400@pleaserock.com
SUMMARY:Yacht Rock Revue at The Exchange at Bridge Park
DESCRIPTION:
URL:https://pleaserock.com/event/yacht-rock-revue-at-the-exchange-at-bridge-park/
LOCATION:The Exchange at Bridge Park\, 6520 Riverside Drive\, Dublin\, OH\, United States
CATEGORIES:Yacht Rock
END:VEVENT
BEGIN:VEVENT
DTSTART;TZID=UTC:20180728T210000
DTEND;TZID=UTC:20180728T230000
DTSTAMP:20260422T191533
CREATED:20180510T194310Z
LAST-MODIFIED:20180510T194310Z
UID:1180-1532811600-1532818800@pleaserock.com
SUMMARY:BROADWAY DUCHESS (YACHT ROCK SCHOONER PLAYS STEELY DAN) @ THE SATURN
DESCRIPTION:
URL:https://pleaserock.com/event/broadway-duchess-yacht-rock-schooner-plays-steely-dan-the-saturn/
LOCATION:The Saturn\, 200 41st St S\, Birmingham\, AL\, United States
CATEGORIES:Yacht Rock Schooner
END:VEVENT
BEGIN:VEVENT
DTSTART;TZID=UTC:20180728T200000
DTEND;TZID=UTC:20180728T230000
DTSTAMP:20260422T191533
CREATED:20180503T215131Z
LAST-MODIFIED:20180503T215131Z
UID:1174-1532808000-1532818800@pleaserock.com
SUMMARY:Yacht Rock Revue at Kroger Symphony On The Prarie
DESCRIPTION:
URL:https://pleaserock.com/event/yacht-rock-revue-at-kroger-symphony-on-the-prarie-2/
LOCATION:Conner Prarie\, Fishers\, IN\, United States
CATEGORIES:Yacht Rock
END:VEVENT
BEGIN:VEVENT
DTSTART;TZID=UTC:20180727T210000
DTEND;TZID=UTC:20180727T230000
DTSTAMP:20260422T191533
CREATED:20180515T190702Z
LAST-MODIFIED:20180515T190702Z
UID:1202-1532725200-1532732400@pleaserock.com
SUMMARY:BROADWAY DUCHESS (YACHT ROCK SCHOONER PLAYS STEELY DAN) @ Venkman's
DESCRIPTION:
URL:https://pleaserock.com/event/broadway-duchess-yacht-rock-schooner-plays-steely-dan-venkmans-2/
LOCATION:Venkman’s\, 740 Ralph McGill Blvd\, Atlanta\, GA\, 30312\, United States
CATEGORIES:Yacht Rock Schooner
END:VEVENT
BEGIN:VEVENT
DTSTART;TZID=UTC:20180727T200000
DTEND;TZID=UTC:20180727T230000
DTSTAMP:20260422T191533
CREATED:20180503T215031Z
LAST-MODIFIED:20180503T215031Z
UID:1171-1532721600-1532732400@pleaserock.com
SUMMARY:Yacht Rock Revue at Kroger Symphony On The Prarie
DESCRIPTION:
URL:https://pleaserock.com/event/yacht-rock-revue-at-kroger-symphony-on-the-prarie/
LOCATION:Conner Prarie\, Fishers\, IN\, United States
CATEGORIES:Yacht Rock
END:VEVENT
BEGIN:VEVENT
DTSTART;TZID=UTC:20180726T190000
DTEND;TZID=UTC:20180726T220000
DTSTAMP:20260422T191533
CREATED:20180501T152704Z
LAST-MODIFIED:20180501T152704Z
UID:1156-1532631600-1532642400@pleaserock.com
SUMMARY:Yacht Rock Revue at Topgolf Nashville
DESCRIPTION:
URL:https://pleaserock.com/event/yacht-rock-revue-at-topgolf-nashville/
LOCATION:Topgolf Nashville\, 500 Cowan Street\, Nashville\, TN\, 37207\, United States
CATEGORIES:Yacht Rock
END:VEVENT
BEGIN:VEVENT
DTSTART;TZID=UTC:20180721T220000
DTEND;TZID=UTC:20180721T233000
DTSTAMP:20260422T191533
CREATED:20180605T161105Z
LAST-MODIFIED:20180605T162517Z
UID:1232-1532210400-1532215800@pleaserock.com
SUMMARY:Yacht Rock Schooner @ Brewhouse Music & Grill
DESCRIPTION:
URL:https://pleaserock.com/event/yacht-rock-schooner-brewhouse-music-grill-2/
LOCATION:Brewhouse Music & Grill\, 325 Broad St\, Rome\, GA\, 30161\, United States
CATEGORIES:Yacht Rock Schooner
END:VEVENT
BEGIN:VEVENT
DTSTART;TZID=UTC:20180720T210000
DTEND;TZID=UTC:20180720T230000
DTSTAMP:20260422T191533
CREATED:20180628T185620Z
LAST-MODIFIED:20180628T185620Z
UID:1269-1532120400-1532127600@pleaserock.com
SUMMARY:Yacht Rock Schooner @ Jimmy's Tequila & Carnes
DESCRIPTION:
URL:https://pleaserock.com/event/yacht-rock-schooner-jimmys-tequila-carnes/
LOCATION:Jimmy’s Tequila\, 6365 Peachtree Industrial Blvd\, Doraville\, GA\, 30360\, United States
CATEGORIES:Yacht Rock Schooner
END:VEVENT
BEGIN:VEVENT
DTSTART;TZID=UTC:20180713T210000
DTEND;TZID=UTC:20180713T233000
DTSTAMP:20260422T191533
CREATED:20180622T154339Z
LAST-MODIFIED:20180622T154339Z
UID:1260-1531515600-1531524600@pleaserock.com
SUMMARY:Yacht Rock Revue performs Abbey Road at Venkman's
DESCRIPTION:
URL:https://pleaserock.com/event/yacht-rock-revue-performs-abbey-road-at-venkmans/
LOCATION:Venkman’s\, 740 Ralph McGill Blvd\, Atlanta\, GA\, 30312\, United States
CATEGORIES:Yacht Rock
END:VEVENT
BEGIN:VEVENT
DTSTART;TZID=UTC:20180704T200000
DTEND;TZID=UTC:20180704T220000
DTSTAMP:20260422T191533
CREATED:20180613T161938Z
LAST-MODIFIED:20180613T161938Z
UID:1251-1530734400-1530741600@pleaserock.com
SUMMARY:Yacht Rock Schooner @ Metazoa Brewing Co.
DESCRIPTION:
URL:https://pleaserock.com/event/yacht-rock-schooner-metazoa-brewing-co/
LOCATION:Metazoa Brewing Co.\, 140 S. College Ave\, Indianapolis\, IN\, United States
CATEGORIES:Yacht Rock Schooner
END:VEVENT
BEGIN:VEVENT
DTSTART;TZID=UTC:20180702T200000
DTEND;TZID=UTC:20180702T230000
DTSTAMP:20260422T191533
CREATED:20180316T211055Z
LAST-MODIFIED:20180321T175453Z
UID:1112-1530561600-1530572400@pleaserock.com
SUMMARY:Yacht Rock Revue at The Music Farm
DESCRIPTION:
URL:https://pleaserock.com/event/yacht-rock-revue-music-farm/
LOCATION:The Music Farm\, 32 Ann St\, Charleston\, SC\, 29403\, United States
END:VEVENT
BEGIN:VEVENT
DTSTART;TZID=UTC:20180630T203000
DTEND;TZID=UTC:20180630T230000
DTSTAMP:20260422T191533
CREATED:20180316T210334Z
LAST-MODIFIED:20180316T210334Z
UID:1109-1530390600-1530399600@pleaserock.com
SUMMARY:Yacht Rock Revue at The Lincoln Theatre
DESCRIPTION:
URL:https://pleaserock.com/event/yacht-rock-revue-lincoln-theatre/
LOCATION:The Lincoln Theatre\, 126 E Cabarrus St\, Raleigh\, NC\, 27601\, United States
END:VEVENT
BEGIN:VEVENT
DTSTART;TZID=UTC:20180629T200000
DTEND;TZID=UTC:20180629T220000
DTSTAMP:20260422T191533
CREATED:20180529T142623Z
LAST-MODIFIED:20180529T142623Z
UID:1210-1530302400-1530309600@pleaserock.com
SUMMARY:Yacht Rock Revue at Park Tavern
DESCRIPTION:
URL:https://pleaserock.com/event/yacht-rock-revue-at-park-tavern-2/
LOCATION:Park Tavern\, Atlanta\, GA\, United States
CATEGORIES:Yacht Rock
END:VEVENT
BEGIN:VEVENT
DTSTART;TZID=UTC:20180624T160000
DTEND;TZID=UTC:20180624T180000
DTSTAMP:20260422T191533
CREATED:20180529T141312Z
LAST-MODIFIED:20180529T141312Z
UID:1207-1529856000-1529863200@pleaserock.com
SUMMARY:Yacht Rock Revue at Moo & Brew
DESCRIPTION:
URL:https://pleaserock.com/event/yacht-rock-revue-at-moo-brew/
LOCATION:Moo & Brew\, 1300 Central Ave\, Charlotte\, NC\, 28205\, United States
CATEGORIES:Yacht Rock
END:VEVENT
BEGIN:VEVENT
DTSTART;TZID=UTC:20180623T200000
DTEND;TZID=UTC:20180623T230000
DTSTAMP:20260422T191533
CREATED:20180416T174205Z
LAST-MODIFIED:20180416T174205Z
UID:1146-1529784000-1529794800@pleaserock.com
SUMMARY:YACHT ROCK SCHOONER @ EATONTON COTTON WAREHOUSE
DESCRIPTION:
URL:https://pleaserock.com/event/yacht-rock-schooner-eatonton-cotton-warehouse/
LOCATION:Eatonton Cotton Warehouse\, Eatonton\, Georgia
CATEGORIES:Yacht Rock Schooner
END:VEVENT
BEGIN:VEVENT
DTSTART;TZID=UTC:20180615T210000
DTEND;TZID=UTC:20180615T233000
DTSTAMP:20260422T191533
CREATED:20180507T175721Z
LAST-MODIFIED:20180507T175721Z
UID:1178-1529096400-1529105400@pleaserock.com
SUMMARY:Broadway Duchess (Yacht Rock Schooner plays Steely Dan) @ Vista Room
DESCRIPTION:
URL:https://pleaserock.com/event/broadway-duchess-yacht-rock-schooner-plays-steely-dan-vista-room/
LOCATION:Vista Room\, 2836 Lavista Rd\, Decatur\, GA\, 30033\, United States
CATEGORIES:Yacht Rock Schooner
END:VEVENT
BEGIN:VEVENT
DTSTART;TZID=UTC:20180608T200000
DTEND;TZID=UTC:20180608T230000
DTSTAMP:20260422T191533
CREATED:20180316T205709Z
LAST-MODIFIED:20180316T205709Z
UID:1107-1528488000-1528498800@pleaserock.com
SUMMARY:Yacht Rock Revue at Avondale Brewing Company
DESCRIPTION:
URL:https://pleaserock.com/event/yacht-rock-revue-avondale-brewing-company/
LOCATION:Avondale Brewing Co.\, 201 41st St S\, Birmingham\, AL\, 35222\, United States
END:VEVENT
BEGIN:VEVENT
DTSTART;TZID=UTC:20180608T193000
DTEND;TZID=UTC:20180608T213000
DTSTAMP:20260422T191533
CREATED:20180405T152700Z
LAST-MODIFIED:20180405T152700Z
UID:1121-1528486200-1528493400@pleaserock.com
SUMMARY:Yacht Rock Schooner @ Peachtree Corners Festival
DESCRIPTION:
URL:https://pleaserock.com/event/yacht-rock-schooner-peachtree-corners-festival/
LOCATION:City of Peachtree Corners\, Peachtree Corners\, GA\, United States
CATEGORIES:Yacht Rock Schooner
END:VEVENT
BEGIN:VEVENT
DTSTART;TZID=UTC:20180607T200000
DTEND;TZID=UTC:20180607T230000
DTSTAMP:20260422T191533
CREATED:20180501T162923Z
LAST-MODIFIED:20180501T163155Z
UID:1161-1528401600-1528412400@pleaserock.com
SUMMARY:Yacht Rock Revue performs Purple Rain at Venkman's
DESCRIPTION:
URL:https://pleaserock.com/event/yacht-rock-revue-at-venkmans-5/
LOCATION:Venkman’s\, 740 Ralph McGill Blvd\, Atlanta\, GA\, 30312\, United States
CATEGORIES:Yacht Rock
END:VEVENT
BEGIN:VEVENT
DTSTART;TZID=UTC:20180525T200000
DTEND;TZID=UTC:20180525T230000
DTSTAMP:20260422T191533
CREATED:20180501T163040Z
LAST-MODIFIED:20180501T163040Z
UID:1163-1527278400-1527289200@pleaserock.com
SUMMARY:Yacht Rock Revue at Park Tavern
DESCRIPTION:
URL:https://pleaserock.com/event/yacht-rock-revue-at-park-tavern/
LOCATION:Park Tavern\, Atlanta\, GA\, United States
CATEGORIES:Yacht Rock
END:VEVENT
BEGIN:VEVENT
DTSTART;TZID=UTC:20180524T200000
DTEND;TZID=UTC:20180524T230000
DTSTAMP:20260422T191533
CREATED:20180321T180740Z
LAST-MODIFIED:20180321T180740Z
UID:1118-1527192000-1527202800@pleaserock.com
SUMMARY:Yacht Rock Revue performs Led Zeppelin vs The Who\, A Rock Fight (featuring special guest Peter Stroud) at Venkman's
DESCRIPTION:
URL:https://pleaserock.com/event/yacht-rock-revue-performs-led-zeppelin-vs-rock-fight-featuring-special-guest-peter-stroud-venkmans/
LOCATION:Venkman’s\, 740 Ralph McGill Blvd\, Atlanta\, GA\, 30312\, United States
END:VEVENT
BEGIN:VEVENT
DTSTART;TZID=UTC:20180520T193000
DTEND;TZID=UTC:20180520T230000
DTSTAMP:20260422T191533
CREATED:20180116T153221Z
LAST-MODIFIED:20180116T153221Z
UID:975-1526844600-1526857200@pleaserock.com
SUMMARY:Yacht Rock Revue at The Hamilton
DESCRIPTION:
URL:https://pleaserock.com/event/yacht-rock-revue-hamilton/
LOCATION:The Hamilton Live\, 600 14th St NW\, Washington\, DC\, 20005\, United States
END:VEVENT
BEGIN:VEVENT
DTSTART;TZID=UTC:20180519T193000
DTEND;TZID=UTC:20180519T233000
DTSTAMP:20260422T191533
CREATED:20180416T174037Z
LAST-MODIFIED:20180416T174037Z
UID:1144-1526758200-1526772600@pleaserock.com
SUMMARY:YACHT ROCK SCHOONER @ MADLIFE STAGE & STUDIOS
DESCRIPTION:
URL:https://pleaserock.com/event/yacht-rock-schooner-madlife-stage-studios/
LOCATION:MadLife Stage & Studios\, Woodstock\, Georgia
CATEGORIES:Yacht Rock Schooner
END:VEVENT
BEGIN:VEVENT
DTSTART;TZID=UTC:20180518T220000
DTEND;TZID=UTC:20180518T233000
DTSTAMP:20260422T191533
CREATED:20180507T175532Z
LAST-MODIFIED:20180507T175532Z
UID:1176-1526680800-1526686200@pleaserock.com
SUMMARY:Yacht Rock Schooner @ MadLife Stage & Studios
DESCRIPTION:
URL:https://pleaserock.com/event/yacht-rock-schooner-madlife-stage-studios-2/
LOCATION:MadLife Stage & Studios\, Woodstock\, Georgia
CATEGORIES:Yacht Rock Schooner
END:VEVENT
END:VCALENDAR