BEGIN:VCALENDAR
VERSION:2.0
PRODID:-//PleaseRock - ECPv6.9.0//NONSGML v1.0//EN
CALSCALE:GREGORIAN
METHOD:PUBLISH
X-WR-CALNAME:PleaseRock
X-ORIGINAL-URL:https://pleaserock.com
X-WR-CALDESC:Events for PleaseRock
REFRESH-INTERVAL;VALUE=DURATION:PT1H
X-Robots-Tag:noindex
X-PUBLISHED-TTL:PT1H
BEGIN:VTIMEZONE
TZID:UTC
BEGIN:STANDARD
TZOFFSETFROM:+0000
TZOFFSETTO:+0000
TZNAME:UTC
DTSTART:20180101T000000
END:STANDARD
END:VTIMEZONE
BEGIN:VEVENT
DTSTART;TZID=UTC:20180623T200000
DTEND;TZID=UTC:20180623T230000
DTSTAMP:20260422T231417
CREATED:20180416T174205Z
LAST-MODIFIED:20180416T174205Z
UID:1146-1529784000-1529794800@pleaserock.com
SUMMARY:YACHT ROCK SCHOONER @ EATONTON COTTON WAREHOUSE
DESCRIPTION:
URL:https://pleaserock.com/event/yacht-rock-schooner-eatonton-cotton-warehouse/
LOCATION:Eatonton Cotton Warehouse\, Eatonton\, Georgia
CATEGORIES:Yacht Rock Schooner
END:VEVENT
BEGIN:VEVENT
DTSTART;TZID=UTC:20180615T210000
DTEND;TZID=UTC:20180615T233000
DTSTAMP:20260422T231417
CREATED:20180507T175721Z
LAST-MODIFIED:20180507T175721Z
UID:1178-1529096400-1529105400@pleaserock.com
SUMMARY:Broadway Duchess (Yacht Rock Schooner plays Steely Dan) @ Vista Room
DESCRIPTION:
URL:https://pleaserock.com/event/broadway-duchess-yacht-rock-schooner-plays-steely-dan-vista-room/
LOCATION:Vista Room\, 2836 Lavista Rd\, Decatur\, GA\, 30033\, United States
CATEGORIES:Yacht Rock Schooner
END:VEVENT
BEGIN:VEVENT
DTSTART;TZID=UTC:20180608T200000
DTEND;TZID=UTC:20180608T230000
DTSTAMP:20260422T231417
CREATED:20180316T205709Z
LAST-MODIFIED:20180316T205709Z
UID:1107-1528488000-1528498800@pleaserock.com
SUMMARY:Yacht Rock Revue at Avondale Brewing Company
DESCRIPTION:
URL:https://pleaserock.com/event/yacht-rock-revue-avondale-brewing-company/
LOCATION:Avondale Brewing Co.\, 201 41st St S\, Birmingham\, AL\, 35222\, United States
END:VEVENT
BEGIN:VEVENT
DTSTART;TZID=UTC:20180608T193000
DTEND;TZID=UTC:20180608T213000
DTSTAMP:20260422T231417
CREATED:20180405T152700Z
LAST-MODIFIED:20180405T152700Z
UID:1121-1528486200-1528493400@pleaserock.com
SUMMARY:Yacht Rock Schooner @ Peachtree Corners Festival
DESCRIPTION:
URL:https://pleaserock.com/event/yacht-rock-schooner-peachtree-corners-festival/
LOCATION:City of Peachtree Corners\, Peachtree Corners\, GA\, United States
CATEGORIES:Yacht Rock Schooner
END:VEVENT
BEGIN:VEVENT
DTSTART;TZID=UTC:20180607T200000
DTEND;TZID=UTC:20180607T230000
DTSTAMP:20260422T231417
CREATED:20180501T162923Z
LAST-MODIFIED:20180501T163155Z
UID:1161-1528401600-1528412400@pleaserock.com
SUMMARY:Yacht Rock Revue performs Purple Rain at Venkman's
DESCRIPTION:
URL:https://pleaserock.com/event/yacht-rock-revue-at-venkmans-5/
LOCATION:Venkman’s\, 740 Ralph McGill Blvd\, Atlanta\, GA\, 30312\, United States
CATEGORIES:Yacht Rock
END:VEVENT
BEGIN:VEVENT
DTSTART;TZID=UTC:20180525T200000
DTEND;TZID=UTC:20180525T230000
DTSTAMP:20260422T231417
CREATED:20180501T163040Z
LAST-MODIFIED:20180501T163040Z
UID:1163-1527278400-1527289200@pleaserock.com
SUMMARY:Yacht Rock Revue at Park Tavern
DESCRIPTION:
URL:https://pleaserock.com/event/yacht-rock-revue-at-park-tavern/
LOCATION:Park Tavern\, Atlanta\, GA\, United States
CATEGORIES:Yacht Rock
END:VEVENT
BEGIN:VEVENT
DTSTART;TZID=UTC:20180524T200000
DTEND;TZID=UTC:20180524T230000
DTSTAMP:20260422T231417
CREATED:20180321T180740Z
LAST-MODIFIED:20180321T180740Z
UID:1118-1527192000-1527202800@pleaserock.com
SUMMARY:Yacht Rock Revue performs Led Zeppelin vs The Who\, A Rock Fight (featuring special guest Peter Stroud) at Venkman's
DESCRIPTION:
URL:https://pleaserock.com/event/yacht-rock-revue-performs-led-zeppelin-vs-rock-fight-featuring-special-guest-peter-stroud-venkmans/
LOCATION:Venkman’s\, 740 Ralph McGill Blvd\, Atlanta\, GA\, 30312\, United States
END:VEVENT
BEGIN:VEVENT
DTSTART;TZID=UTC:20180520T193000
DTEND;TZID=UTC:20180520T230000
DTSTAMP:20260422T231417
CREATED:20180116T153221Z
LAST-MODIFIED:20180116T153221Z
UID:975-1526844600-1526857200@pleaserock.com
SUMMARY:Yacht Rock Revue at The Hamilton
DESCRIPTION:
URL:https://pleaserock.com/event/yacht-rock-revue-hamilton/
LOCATION:The Hamilton Live\, 600 14th St NW\, Washington\, DC\, 20005\, United States
END:VEVENT
BEGIN:VEVENT
DTSTART;TZID=UTC:20180519T193000
DTEND;TZID=UTC:20180519T233000
DTSTAMP:20260422T231417
CREATED:20180416T174037Z
LAST-MODIFIED:20180416T174037Z
UID:1144-1526758200-1526772600@pleaserock.com
SUMMARY:YACHT ROCK SCHOONER @ MADLIFE STAGE & STUDIOS
DESCRIPTION:
URL:https://pleaserock.com/event/yacht-rock-schooner-madlife-stage-studios/
LOCATION:MadLife Stage & Studios\, Woodstock\, Georgia
CATEGORIES:Yacht Rock Schooner
END:VEVENT
BEGIN:VEVENT
DTSTART;TZID=UTC:20180518T220000
DTEND;TZID=UTC:20180518T233000
DTSTAMP:20260422T231417
CREATED:20180507T175532Z
LAST-MODIFIED:20180507T175532Z
UID:1176-1526680800-1526686200@pleaserock.com
SUMMARY:Yacht Rock Schooner @ MadLife Stage & Studios
DESCRIPTION:
URL:https://pleaserock.com/event/yacht-rock-schooner-madlife-stage-studios-2/
LOCATION:MadLife Stage & Studios\, Woodstock\, Georgia
CATEGORIES:Yacht Rock Schooner
END:VEVENT
BEGIN:VEVENT
DTSTART;TZID=UTC:20180518T193000
DTEND;TZID=UTC:20180518T213000
DTSTAMP:20260422T231417
CREATED:20180416T173725Z
LAST-MODIFIED:20180416T173910Z
UID:1136-1526671800-1526679000@pleaserock.com
SUMMARY:BROADWAY DUCHESS (YACHT ROCK SCHOONER PLAYS STEELY DAN) @ MADLIFE STAGE & STUDIOS
DESCRIPTION:
URL:https://pleaserock.com/event/tribute-to-steely-dan-featuring-broadway-duchess/
LOCATION:MadLife Stage & Studios\, Woodstock\, Georgia
CATEGORIES:Yacht Rock Schooner
END:VEVENT
BEGIN:VEVENT
DTSTART;TZID=UTC:20180518T190000
DTEND;TZID=UTC:20180518T230000
DTSTAMP:20260422T231417
CREATED:20180116T220438Z
LAST-MODIFIED:20180116T220438Z
UID:977-1526670000-1526684400@pleaserock.com
SUMMARY:Yacht Rock Revue at Royale
DESCRIPTION:
URL:https://pleaserock.com/event/yacht-rock-revue-royale-2/
LOCATION:Royale\, 279 Tremont Street\, Boston\, MA\, 02216\, United States
END:VEVENT
BEGIN:VEVENT
DTSTART;TZID=UTC:20180517T200000
DTEND;TZID=UTC:20180517T230000
DTSTAMP:20260422T231417
CREATED:20180126T175634Z
LAST-MODIFIED:20180126T175634Z
UID:987-1526587200-1526598000@pleaserock.com
SUMMARY:Yacht Rock Revue at Playstation Theater
DESCRIPTION:
URL:https://pleaserock.com/event/yacht-rock-revue-playstation-theater/
LOCATION:PlayStation Theater\, 1515 Broadway\, New York\, NY\, 10036\, United States
END:VEVENT
BEGIN:VEVENT
DTSTART;TZID=UTC:20180504T220000
DTEND;TZID=UTC:20180504T235900
DTSTAMP:20260422T231417
CREATED:20180221T191142Z
LAST-MODIFIED:20180416T173941Z
UID:1031-1525471200-1525478340@pleaserock.com
SUMMARY:Broadway Duchess (Yacht Rock Schooner plays Steely Dan) @ Venkman's
DESCRIPTION:
URL:https://pleaserock.com/event/broadway-duchess-yacht-rock-schooner-plays-steely-dan-venkmans/
LOCATION:Venkman’s\, 740 Ralph McGill Blvd\, Atlanta\, GA\, 30312\, United States
END:VEVENT
BEGIN:VEVENT
DTSTART;TZID=UTC:20180504T200000
DTEND;TZID=UTC:20180504T230000
DTSTAMP:20260422T231417
CREATED:20180406T193027Z
LAST-MODIFIED:20180406T193027Z
UID:1128-1525464000-1525474800@pleaserock.com
SUMMARY:YACHT ROCK REVUE AT THE PARAMOUNT
DESCRIPTION:
URL:https://pleaserock.com/event/yacht-rock-revue-at-the-paramount/
LOCATION:The Paramount\, Huntington\, NY\, United States
CATEGORIES:Yacht Rock
END:VEVENT
BEGIN:VEVENT
DTSTART;TZID=UTC:20180503T200000
DTEND;TZID=UTC:20180503T235900
DTSTAMP:20260422T231417
CREATED:20180110T162229Z
LAST-MODIFIED:20180110T162229Z
UID:973-1525377600-1525391940@pleaserock.com
SUMMARY:Yacht Rock Revue at The Wellmont Theater
DESCRIPTION:
URL:https://pleaserock.com/event/yacht-rock-revue-wellmont-theater/
LOCATION:The Wellmont Theater\, 5 Seymour St\, Montclair\, NJ\, 07042\, United States
END:VEVENT
BEGIN:VEVENT
DTSTART;TZID=UTC:20180428T190000
DTEND;TZID=UTC:20180428T220000
DTSTAMP:20260422T231417
CREATED:20180221T190804Z
LAST-MODIFIED:20180221T190804Z
UID:1028-1524942000-1524952800@pleaserock.com
SUMMARY:Chattahoochee Plantation Women's Club Charity Gala w/ Yacht Rock Schooner
DESCRIPTION:
URL:https://pleaserock.com/event/chattahoochee-plantation-womens-club-charity-gala-w-yacht-rock-schooner/
LOCATION:Atlanta Country Club\, 500 Atlanta Country Club Dr\, Marietta\, GA\, 30067\, United States
END:VEVENT
BEGIN:VEVENT
DTSTART;TZID=UTC:20180427T200000
DTEND;TZID=UTC:20180427T220000
DTSTAMP:20260422T231417
CREATED:20180221T190316Z
LAST-MODIFIED:20180221T190316Z
UID:1025-1524859200-1524866400@pleaserock.com
SUMMARY:Yacht Rock Schooner @ Hargray Capitol Theatre
DESCRIPTION:
URL:https://pleaserock.com/event/yacht-rock-schooner-hargray-capitol-theatre/
LOCATION:Hargray Capitol Theatre\, 382 2nd Street\, Macon\, GA\, 31201\, United States
CATEGORIES:Yacht Rock Schooner
END:VEVENT
BEGIN:VEVENT
DTSTART;TZID=UTC:20180427T190000
DTEND;TZID=UTC:20180427T223000
DTSTAMP:20260422T231417
CREATED:20180227T154214Z
LAST-MODIFIED:20180227T154214Z
UID:1034-1524855600-1524868200@pleaserock.com
SUMMARY:Yacht Rock Revue performs Purple Rain at The Legacy Fountain in Piedmont Park
DESCRIPTION:
URL:https://pleaserock.com/event/yacht-rock-revue-performs-purple-rain-legacy-fountain-piedmont-park/
LOCATION:Legacy Fountain in Piedmont Park\, 1342 Worchester Drive NE \, Atlanta\, GA\, 30306\, United States
END:VEVENT
BEGIN:VEVENT
DTSTART;TZID=UTC:20180421T200000
DTEND;TZID=UTC:20180421T220000
DTSTAMP:20260422T231417
CREATED:20180221T185102Z
LAST-MODIFIED:20180221T185102Z
UID:1022-1524340800-1524348000@pleaserock.com
SUMMARY:enAble of Georgia 30th Annual Gala-Founder's Ball w/ Yacht Rock Schooner
DESCRIPTION:
URL:https://pleaserock.com/event/enable-georgia-30th-annual-gala-founders-ball-w-yacht-rock-schooner/
LOCATION:Hotel at Avalon\, 9000 Avalon Boulevard\, Alpharetta\, GA\, 30009\, United States
CATEGORIES:Yacht Rock Schooner
END:VEVENT
BEGIN:VEVENT
DTSTART;TZID=UTC:20180415T190000
DTEND;TZID=UTC:20180415T220000
DTSTAMP:20260422T231417
CREATED:20180321T180356Z
LAST-MODIFIED:20180321T180356Z
UID:1116-1523818800-1523829600@pleaserock.com
SUMMARY:Yacht Rock Revue Unplugged at Venkman's
DESCRIPTION:
URL:https://pleaserock.com/event/yacht-rock-revue-unplugged-venkmans-2/
LOCATION:Venkman’s\, 740 Ralph McGill Blvd\, Atlanta\, GA\, 30312\, United States
END:VEVENT
BEGIN:VEVENT
DTSTART;TZID=UTC:20180414T210000
DTEND;TZID=UTC:20180414T230000
DTSTAMP:20260422T231417
CREATED:20180221T180858Z
LAST-MODIFIED:20180221T180858Z
UID:1018-1523739600-1523746800@pleaserock.com
SUMMARY:Yacht Rock Schooner @ 37 Main
DESCRIPTION:
URL:https://pleaserock.com/event/yacht-rock-schooner-37-main/
LOCATION:37 Main\, 37 E Main St NE\, Buford\, GA\, 30518\, United States
CATEGORIES:Yacht Rock Schooner
END:VEVENT
BEGIN:VEVENT
DTSTART;TZID=UTC:20180413T220000
DTEND;TZID=UTC:20180413T233000
DTSTAMP:20260422T231417
CREATED:20180221T174823Z
LAST-MODIFIED:20180221T174926Z
UID:1011-1523656800-1523662200@pleaserock.com
SUMMARY:Yacht Rock Schooner @ Brewhouse Music & Grill
DESCRIPTION:
URL:https://pleaserock.com/event/yacht-rock-schooner-brewhouse-music-grill/
LOCATION:Brewhouse Music & Grill\, 325 Broad St\, Rome\, GA\, 30161\, United States
CATEGORIES:Yacht Rock Schooner
END:VEVENT
BEGIN:VEVENT
DTSTART;TZID=UTC:20180413T080000
DTEND;TZID=UTC:20180413T170000
DTSTAMP:20260422T231417
CREATED:20171127T164501Z
LAST-MODIFIED:20171127T164501Z
UID:915-1523606400-1523638800@pleaserock.com
SUMMARY:Yacht Rock Revue at Georgia Theatre
DESCRIPTION:
URL:https://pleaserock.com/event/yacht-rock-revue-georgia-theatre/
LOCATION:Georgia Theatre\, Athens\, GA\, United States
END:VEVENT
BEGIN:VEVENT
DTSTART;TZID=UTC:20180408T200000
DTEND;TZID=UTC:20180408T235900
DTSTAMP:20260422T231417
CREATED:20171206T201535Z
LAST-MODIFIED:20171206T201535Z
UID:930-1523217600-1523231940@pleaserock.com
SUMMARY:Yacht Rock Revue at 3TEN Austin City Limits
DESCRIPTION:
URL:https://pleaserock.com/event/yacht-rock-revue-3ten-austin-city-limits/
LOCATION:3TEN Austin City Limits\, Austin\, TX\, United States
END:VEVENT
BEGIN:VEVENT
DTSTART;TZID=UTC:20180407T210000
DTEND;TZID=UTC:20180407T223000
DTSTAMP:20260422T231417
CREATED:20180221T174226Z
LAST-MODIFIED:20180221T174226Z
UID:1008-1523134800-1523140200@pleaserock.com
SUMMARY:Yacht Rock Schooner @ The Loft
DESCRIPTION:
URL:https://pleaserock.com/event/yacht-rock-schooner-loft/
LOCATION:The Loft\, 1032 Broadway\, Columbus\, GA\, 31901\, United States
CATEGORIES:Yacht Rock Schooner
END:VEVENT
BEGIN:VEVENT
DTSTART;TZID=UTC:20180407T200000
DTEND;TZID=UTC:20180407T230000
DTSTAMP:20260422T231417
CREATED:20180227T193926Z
LAST-MODIFIED:20180406T192802Z
UID:1038-1523131200-1523142000@pleaserock.com
SUMMARY:Yacht Rock Revue at Lava Cantina The Colony
DESCRIPTION:
URL:https://pleaserock.com/event/yacht-rock-revue-lava-cantina-colony/
LOCATION:Lava Cantina\, 5805 Grandscape Blvd\, The Colony\, TX\, 75056\, United States
END:VEVENT
BEGIN:VEVENT
DTSTART;TZID=UTC:20180406T190000
DTEND;TZID=UTC:20180406T230000
DTSTAMP:20260422T231417
CREATED:20180125T210519Z
LAST-MODIFIED:20180125T210625Z
UID:983-1523041200-1523055600@pleaserock.com
SUMMARY:Yacht Rock Revue at A Chance For Hope Benefit
DESCRIPTION:
URL:https://pleaserock.com/event/yacht-rock-revue-chance-hope-benefit/
LOCATION:The Redneck Country Club\, 11110 W Airport Blvd\, Stafford\, TX\, 77477\, United States
END:VEVENT
BEGIN:VEVENT
DTSTART;TZID=UTC:20180405T190000
DTEND;TZID=UTC:20180405T230000
DTSTAMP:20260422T231417
CREATED:20180102T223602Z
LAST-MODIFIED:20180102T224020Z
UID:958-1522954800-1522969200@pleaserock.com
SUMMARY:Yacht Rock Revue at House of Blues Houston
DESCRIPTION:
URL:https://pleaserock.com/event/yacht-rock-revue-house-blues-houston/
LOCATION:House of Blues Houston\, Houston\, TX\, United States
END:VEVENT
BEGIN:VEVENT
DTSTART;TZID=UTC:20180331T200000
DTEND;TZID=UTC:20180331T235900
DTSTAMP:20260422T231417
CREATED:20171204T161106Z
LAST-MODIFIED:20171204T161106Z
UID:927-1522526400-1522540740@pleaserock.com
SUMMARY:Yacht Rock Revue at The Signal
DESCRIPTION:
URL:https://pleaserock.com/event/yacht-rock-revue-signal/
LOCATION:The Signal\, 1810 Chestnut St\, Chattanooga\, TN\, 37408\, United States
END:VEVENT
END:VCALENDAR