BEGIN:VCALENDAR
VERSION:2.0
PRODID:-//PleaseRock - ECPv6.9.0//NONSGML v1.0//EN
CALSCALE:GREGORIAN
METHOD:PUBLISH
X-WR-CALNAME:PleaseRock
X-ORIGINAL-URL:https://pleaserock.com
X-WR-CALDESC:Events for PleaseRock
REFRESH-INTERVAL;VALUE=DURATION:PT1H
X-Robots-Tag:noindex
X-PUBLISHED-TTL:PT1H
BEGIN:VTIMEZONE
TZID:UTC
BEGIN:STANDARD
TZOFFSETFROM:+0000
TZOFFSETTO:+0000
TZNAME:UTC
DTSTART:20170101T000000
END:STANDARD
END:VTIMEZONE
BEGIN:VEVENT
DTSTART;TZID=UTC:20180302T200000
DTEND;TZID=UTC:20180302T230000
DTSTAMP:20260423T074214
CREATED:20180102T222738Z
LAST-MODIFIED:20180102T222738Z
UID:952-1520020800-1520031600@pleaserock.com
SUMMARY:Yacht Rock Revue at Buckhead Theatre
DESCRIPTION:
URL:https://pleaserock.com/event/yacht-rock-revue-buckhead-theatre/
LOCATION:Buckhead Theatre\, 3110 Roswell Rd NE\, Atlanta\, GA\, 30305\, United States
END:VEVENT
BEGIN:VEVENT
DTSTART;TZID=UTC:20180302T193000
DTEND;TZID=UTC:20180302T220000
DTSTAMP:20260423T074214
CREATED:20180221T172255Z
LAST-MODIFIED:20180221T173140Z
UID:999-1520019000-1520028000@pleaserock.com
SUMMARY:6th Annual Rockin' Out Alzheimers featuring Yacht Rock Schooner
DESCRIPTION:
URL:https://pleaserock.com/event/6th-annual-rockin-alzheimers-featuring-yacht-rock-schooner/
LOCATION:Georgia Southern University Performing Arts Center\, 847 Plant Dr\, Statesboro\, GA\, 30460\, United States
CATEGORIES:Yacht Rock Schooner
END:VEVENT
BEGIN:VEVENT
DTSTART;TZID=UTC:20180224T180000
DTEND;TZID=UTC:20180224T191500
DTSTAMP:20260423T074214
CREATED:20180221T171629Z
LAST-MODIFIED:20180221T171629Z
UID:995-1519495200-1519499700@pleaserock.com
SUMMARY:FREE SHOW! The Landing Party - Acoustic Yacht Rock with members of Yacht Rock Schooner at Venkman's
DESCRIPTION:
URL:https://pleaserock.com/event/free-show-landing-party-acoustic-yacht-rock-members-yacht-rock-schooner-venkmans/
LOCATION:Venkman’s\, 740 Ralph McGill Blvd\, Atlanta\, GA\, 30312\, United States
CATEGORIES:Yacht Rock Schooner
END:VEVENT
BEGIN:VEVENT
DTSTART;TZID=UTC:20180217T210000
DTEND;TZID=UTC:20180217T233000
DTSTAMP:20260423T074214
CREATED:20171127T163534Z
LAST-MODIFIED:20171128T201745Z
UID:909-1518901200-1518910200@pleaserock.com
SUMMARY:Yacht Rock Revue at El Rey Theatre
DESCRIPTION:
URL:https://pleaserock.com/event/yacht-rock-revue-el-rey-theatre/
LOCATION:El Rey Theatre\, 5515 Wilshire Blvd\, Los Angeles\, CA\, 90036\, United States
END:VEVENT
BEGIN:VEVENT
DTSTART;TZID=UTC:20180216T200000
DTEND;TZID=UTC:20180216T230000
DTSTAMP:20260423T074214
CREATED:20180103T162110Z
LAST-MODIFIED:20180103T162110Z
UID:963-1518811200-1518822000@pleaserock.com
SUMMARY:Yacht Rock Revue at Topgolf
DESCRIPTION:
URL:https://pleaserock.com/event/yacht-rock-revue-topgolf/
LOCATION:Topgolf\, 4627 Koval Ln\, Las Vegas\, NV\, 89109\, United States
END:VEVENT
BEGIN:VEVENT
DTSTART;TZID=UTC:20180215T203000
DTEND;TZID=UTC:20180215T235900
DTSTAMP:20260423T074214
CREATED:20171218T204756Z
LAST-MODIFIED:20171218T204756Z
UID:946-1518726600-1518739140@pleaserock.com
SUMMARY:Yacht Rock Revue at The Music Box
DESCRIPTION:
URL:https://pleaserock.com/event/yacht-rock-revue-music-box/
LOCATION:The Music Box\, 1337 India St\, San Diego\, CA\, 92101\, United States
END:VEVENT
BEGIN:VEVENT
DTSTART;TZID=UTC:20180212T210000
DTEND;TZID=UTC:20180212T235900
DTSTAMP:20260423T074214
CREATED:20171214T233647Z
LAST-MODIFIED:20171214T233758Z
UID:940-1518469200-1518479940@pleaserock.com
SUMMARY:Yacht Rock Revue at Belly Up
DESCRIPTION:
URL:https://pleaserock.com/event/yacht-rock-revue-belly/
LOCATION:Belly Up\, 450 S Galena St\, Aspen\, CO\, 81611\, United States
END:VEVENT
BEGIN:VEVENT
DTSTART;TZID=UTC:20180211T200000
DTEND;TZID=UTC:20180211T235900
DTSTAMP:20260423T074214
CREATED:20171211T211024Z
LAST-MODIFIED:20171211T211024Z
UID:935-1518379200-1518393540@pleaserock.com
SUMMARY:Yacht Rock Revue at Boulder Theater
DESCRIPTION:
URL:https://pleaserock.com/event/yacht-rock-revue-boulder-theater/
LOCATION:Boulder Theater\, 2032 14th St.\, Boulder\, CO\, 80302\, United States
END:VEVENT
BEGIN:VEVENT
DTSTART;TZID=UTC:20180210T200000
DTEND;TZID=UTC:20180210T235900
DTSTAMP:20260423T074214
CREATED:20171211T210635Z
LAST-MODIFIED:20171211T210635Z
UID:932-1518292800-1518307140@pleaserock.com
SUMMARY:Yacht Rock Revue at The Gothic Theatre
DESCRIPTION:
URL:https://pleaserock.com/event/yacht-rock-revue-gothic-theatre/
LOCATION:Gothic Theatre\, 3263 S Broadway\, Englewood\, CO\, 80113\, United States
END:VEVENT
BEGIN:VEVENT
DTSTART;TZID=UTC:20180203T210000
DTEND;TZID=UTC:20180203T233000
DTSTAMP:20260423T074214
CREATED:20171127T163051Z
LAST-MODIFIED:20171127T163051Z
UID:907-1517691600-1517700600@pleaserock.com
SUMMARY:Yacht Rock Revue at The Orange Peel
DESCRIPTION:
URL:https://pleaserock.com/event/yacht-rock-revue-orange-peel/
LOCATION:The Orange Peel\, 101 Biltmore Ave\, Asheville\, NC\, 28801\, United States
END:VEVENT
BEGIN:VEVENT
DTSTART;TZID=UTC:20180202T210000
DTEND;TZID=UTC:20180202T233000
DTSTAMP:20260423T074214
CREATED:20171127T162822Z
LAST-MODIFIED:20171127T162822Z
UID:904-1517605200-1517614200@pleaserock.com
SUMMARY:Yacht Rock Revue at The Fillmore Charlotte
DESCRIPTION:
URL:https://pleaserock.com/event/yacht-rock-revue-fillmore-charlotte/
LOCATION:The Fillmore Charlotte\, 820 Hamilton St\, Charlotte\, NC\, 28206\, United States
END:VEVENT
BEGIN:VEVENT
DTSTART;TZID=UTC:20180201T200000
DTEND;TZID=UTC:20180201T235900
DTSTAMP:20260423T074214
CREATED:20171127T194348Z
LAST-MODIFIED:20180104T023138Z
UID:923-1517515200-1517529540@pleaserock.com
SUMMARY:Yacht Rock Revue performs Led Zeppelin vs. The Who at Venkman's
DESCRIPTION:
URL:https://pleaserock.com/event/yacht-rock-revue-performs-led-zeppelin-vs-venkmans/
LOCATION:Venkman’s\, 740 Ralph McGill Blvd\, Atlanta\, GA\, 30312\, United States
END:VEVENT
BEGIN:VEVENT
DTSTART;TZID=UTC:20180127T210000
DTEND;TZID=UTC:20180127T235900
DTSTAMP:20260423T074214
CREATED:20171215T175605Z
LAST-MODIFIED:20171215T175605Z
UID:944-1517086800-1517097540@pleaserock.com
SUMMARY:Yacht Rock Revue at Workplay Soundstage
DESCRIPTION:
URL:https://pleaserock.com/event/yacht-rock-revue-workplay-soundstage/
LOCATION:WorkPlay\, Birmingham\, AL\, United States
END:VEVENT
BEGIN:VEVENT
DTSTART;TZID=UTC:20180126T190000
DTEND;TZID=UTC:20180126T230000
DTSTAMP:20260423T074214
CREATED:20171127T162206Z
LAST-MODIFIED:20171127T162206Z
UID:901-1516993200-1517007600@pleaserock.com
SUMMARY:Yacht Rock Revue at Topgolf Live
DESCRIPTION:
URL:https://pleaserock.com/event/yacht-rock-revue-topgolf-live/
LOCATION:Top Golf\, 500 Cowan St.\, Nashville\, TN\, 37207\, United States
END:VEVENT
BEGIN:VEVENT
DTSTART;TZID=UTC:20180114T193000
DTEND;TZID=UTC:20180114T230000
DTSTAMP:20260423T074214
CREATED:20171006T182413Z
LAST-MODIFIED:20171006T182413Z
UID:885-1515958200-1515970800@pleaserock.com
SUMMARY:Yacht Rock Revue at The Hamilton Live
DESCRIPTION:
URL:https://pleaserock.com/event/yacht-rock-revue-hamilton-live/
LOCATION:The Hamilton Live\, 600 14th St NW\, Washington\, DC\, 20005\, United States
END:VEVENT
BEGIN:VEVENT
DTSTART;TZID=UTC:20180113T200000
DTEND;TZID=UTC:20180113T230000
DTSTAMP:20260423T074214
CREATED:20170728T175105Z
LAST-MODIFIED:20170728T175105Z
UID:847-1515873600-1515884400@pleaserock.com
SUMMARY:Yacht Rock Revue at Irving Plaza
DESCRIPTION:
URL:https://pleaserock.com/event/yacht-rock-revue-at-irving-plaza-2/
LOCATION:Irving Plaza\, 17 Irving Place \, New York\, NY\, 10003\, United States
END:VEVENT
BEGIN:VEVENT
DTSTART;TZID=UTC:20180112T190000
DTEND;TZID=UTC:20180112T230000
DTSTAMP:20260423T074214
CREATED:20171004T171617Z
LAST-MODIFIED:20171004T171617Z
UID:879-1515783600-1515798000@pleaserock.com
SUMMARY:Yacht Rock Revue at Royale
DESCRIPTION:
URL:https://pleaserock.com/event/yacht-rock-revue-royale/
LOCATION:Royale\, 279 Tremont Street\, Boston\, MA\, 02216\, United States
END:VEVENT
BEGIN:VEVENT
DTSTART;TZID=UTC:20180111T200000
DTEND;TZID=UTC:20180111T230000
DTSTAMP:20260423T074214
CREATED:20171006T180502Z
LAST-MODIFIED:20171006T182556Z
UID:882-1515700800-1515711600@pleaserock.com
SUMMARY:Yacht Rock Revue at The Queen
DESCRIPTION:
URL:https://pleaserock.com/event/yacht-rock-revue-queen/
LOCATION:The Queen\, 500 N Market St.\, Wilmington\, DE\, 19801\, United States
END:VEVENT
BEGIN:VEVENT
DTSTART;TZID=UTC:20180106T213000
DTEND;TZID=UTC:20180106T235900
DTSTAMP:20260423T074214
CREATED:20171127T172324Z
LAST-MODIFIED:20171127T193901Z
UID:919-1515274200-1515283140@pleaserock.com
SUMMARY:Yacht Rock Revue performs Abbey Road and Dark Side of the Moon at Venkman's
DESCRIPTION:
URL:https://pleaserock.com/event/yacht-rock-revue-performs-beatles-abbey-road-venkmans-2/
LOCATION:Venkman’s\, 740 Ralph McGill Blvd\, Atlanta\, GA\, 30312\, United States
END:VEVENT
BEGIN:VEVENT
DTSTART;TZID=UTC:20180105T210000
DTEND;TZID=UTC:20180105T235900
DTSTAMP:20260423T074214
CREATED:20171127T171646Z
LAST-MODIFIED:20171127T193820Z
UID:917-1515186000-1515196740@pleaserock.com
SUMMARY:Yacht Rock Revue performs Abbey Road and Dark Side of the Moon at Venkman's
DESCRIPTION:
URL:https://pleaserock.com/event/yacht-rock-revue-performs-beatles-abbey-road-venkmans/
LOCATION:Venkman’s\, 740 Ralph McGill Blvd\, Atlanta\, GA\, 30312\, United States
END:VEVENT
BEGIN:VEVENT
DTSTART;TZID=UTC:20171231T210000
DTEND;TZID=UTC:20171231T210000
DTSTAMP:20260423T074214
CREATED:20171103T152234Z
LAST-MODIFIED:20171103T152234Z
UID:896-1514754000-1514754000@pleaserock.com
SUMMARY:Yacht Rock Revue at Park Tavern
DESCRIPTION:
URL:https://pleaserock.com/event/yacht-rock-revue-park-tavern/
LOCATION:Park Tavern\, Atlanta\, GA\, United States
END:VEVENT
BEGIN:VEVENT
DTSTART;TZID=UTC:20171216T200000
DTEND;TZID=UTC:20171216T230000
DTSTAMP:20260423T074214
CREATED:20170814T150615Z
LAST-MODIFIED:20170818T162856Z
UID:865-1513454400-1513465200@pleaserock.com
SUMMARY:Yacht Rock Revue at The Vogue
DESCRIPTION:
URL:https://pleaserock.com/event/yacht-rock-revue-at-the-vogue-2/
LOCATION:The Vogue\, 6259 N College Ave\, Indianapolis\, IN\, 46220\, United States
END:VEVENT
BEGIN:VEVENT
DTSTART;TZID=UTC:20171209T220000
DTEND;TZID=UTC:20171209T233000
DTSTAMP:20260423T074214
CREATED:20171024T182551Z
LAST-MODIFIED:20171024T182551Z
UID:894-1512856800-1512862200@pleaserock.com
SUMMARY:Yacht Rock Revue Holiday Special (Late Show) at Venkman's
DESCRIPTION:
URL:https://pleaserock.com/event/yacht-rock-revue-holiday-special-late-show-venkmans/
LOCATION:Venkman’s\, 740 Ralph McGill Blvd\, Atlanta\, GA\, 30312\, United States
END:VEVENT
BEGIN:VEVENT
DTSTART;TZID=UTC:20171209T190000
DTEND;TZID=UTC:20171209T203000
DTSTAMP:20260423T074214
CREATED:20171024T182336Z
LAST-MODIFIED:20171024T182336Z
UID:892-1512846000-1512851400@pleaserock.com
SUMMARY:Yacht Rock Revue Holiday Special (Unplugged Early Show) at Venkman's
DESCRIPTION:
URL:https://pleaserock.com/event/yacht-rock-revue-holiday-special-unplugged-early-show-venkmans/
LOCATION:Venkman’s\, 740 Ralph McGill Blvd\, Atlanta\, GA\, 30312\, United States
END:VEVENT
BEGIN:VEVENT
DTSTART;TZID=UTC:20171201T200000
DTEND;TZID=UTC:20171201T230000
DTSTAMP:20260423T074214
CREATED:20170814T150345Z
LAST-MODIFIED:20170814T150345Z
UID:862-1512158400-1512169200@pleaserock.com
SUMMARY:Yacht Rock Revue at Varsity Theatre
DESCRIPTION:
URL:https://pleaserock.com/event/yacht-rock-revue-at-varsity-theatre/
LOCATION:Varsity Theatre\, 3353 Highland Rd\, Baton Rouge\, LA\, 70802\, United States
END:VEVENT
BEGIN:VEVENT
DTSTART;TZID=UTC:20171130T200000
DTEND;TZID=UTC:20171130T230000
DTSTAMP:20260423T074214
CREATED:20170814T150100Z
LAST-MODIFIED:20170814T150100Z
UID:859-1512072000-1512082800@pleaserock.com
SUMMARY:Yacht Rock Revue at House of Blues
DESCRIPTION:
URL:https://pleaserock.com/event/yacht-rock-revue-at-house-of-blues/
LOCATION:House of Blues New Orleans\, 225 Decatur St\, New Orleans\, LA\, 70130\, United States
END:VEVENT
BEGIN:VEVENT
DTSTART;TZID=UTC:20171122T220000
DTEND;TZID=UTC:20171122T233000
DTSTAMP:20260423T074214
CREATED:20171024T182123Z
LAST-MODIFIED:20171024T182123Z
UID:890-1511388000-1511393400@pleaserock.com
SUMMARY:Yacht Rock Revue Turkey Eve (Late Show) at Venkman's
DESCRIPTION:
URL:https://pleaserock.com/event/yacht-rock-revue-turkey-eve-late-show-venkmans/
LOCATION:Venkman’s\, 740 Ralph McGill Blvd\, Atlanta\, GA\, 30312\, United States
END:VEVENT
BEGIN:VEVENT
DTSTART;TZID=UTC:20171122T190000
DTEND;TZID=UTC:20171122T204500
DTSTAMP:20260423T074214
CREATED:20171024T181923Z
LAST-MODIFIED:20171024T181923Z
UID:888-1511377200-1511383500@pleaserock.com
SUMMARY:Yacht Rock Revue Turkey Eve (Unplugged Early Show) at Venkman's
DESCRIPTION:
URL:https://pleaserock.com/event/yacht-rock-revue-turkey-eve-unplugged-early-show-venkmans/
LOCATION:Venkman’s\, 740 Ralph McGill Blvd\, Atlanta\, GA\, 30312\, United States
END:VEVENT
BEGIN:VEVENT
DTSTART;TZID=UTC:20171118T200000
DTEND;TZID=UTC:20171118T230000
DTSTAMP:20260423T074214
CREATED:20170814T145741Z
LAST-MODIFIED:20170814T145741Z
UID:857-1511035200-1511046000@pleaserock.com
SUMMARY:Yacht Rock Revue at Newberry Opera House
DESCRIPTION:
URL:https://pleaserock.com/event/yacht-rock-revue-at-newberry-opera-house-2/
LOCATION:Newberry Opera House\, Newberry\, SC\, United States
END:VEVENT
BEGIN:VEVENT
DTSTART;TZID=UTC:20171110T200000
DTEND;TZID=UTC:20171110T230000
DTSTAMP:20260423T074214
CREATED:20170711T154054Z
LAST-MODIFIED:20170728T175458Z
UID:823-1510344000-1510354800@pleaserock.com
SUMMARY:Yacht Rock Revue at Georgia Theatre
DESCRIPTION:
URL:https://pleaserock.com/event/yacht-rock-revue-at-georgia-theatre/
LOCATION:Georgia Theatre\, Athens\, GA\, United States
END:VEVENT
END:VCALENDAR