BEGIN:VCALENDAR
VERSION:2.0
PRODID:-//PleaseRock - ECPv6.9.0//NONSGML v1.0//EN
CALSCALE:GREGORIAN
METHOD:PUBLISH
X-WR-CALNAME:PleaseRock
X-ORIGINAL-URL:https://pleaserock.com
X-WR-CALDESC:Events for PleaseRock
REFRESH-INTERVAL;VALUE=DURATION:PT1H
X-Robots-Tag:noindex
X-PUBLISHED-TTL:PT1H
BEGIN:VTIMEZONE
TZID:UTC
BEGIN:STANDARD
TZOFFSETFROM:+0000
TZOFFSETTO:+0000
TZNAME:UTC
DTSTART:20170101T000000
END:STANDARD
END:VTIMEZONE
BEGIN:VEVENT
DTSTART;TZID=UTC:20170826T200000
DTEND;TZID=UTC:20170826T230000
DTSTAMP:20260425T111354
CREATED:20170522T161320Z
LAST-MODIFIED:20170522T161320Z
UID:764-1503777600-1503788400@pleaserock.com
SUMMARY:Yacht Rock Revival at The Tabernacle
DESCRIPTION:
URL:https://pleaserock.com/event/yacht-rock-revival-at-the-tabernacle/
LOCATION:The Tabernacle\, 152 Luckie St NW\, Atlanta\, GA\, 30303\, United States
END:VEVENT
BEGIN:VEVENT
DTSTART;TZID=UTC:20170810T193000
DTEND;TZID=UTC:20170810T210000
DTSTAMP:20260425T111354
CREATED:20170601T155346Z
LAST-MODIFIED:20170601T155346Z
UID:811-1502393400-1502398800@pleaserock.com
SUMMARY:Yacht Rock Revival at Indiana State Fairgrounds
DESCRIPTION:
URL:https://pleaserock.com/event/yacht-rock-revival-at-indiana-state-fairgrounds/
LOCATION:Indiana State Fairgrounds\, 1202 E 38th St\, Indianapolis\, IN\, 46205\, United States
END:VEVENT
BEGIN:VEVENT
DTSTART;TZID=UTC:20170806T190000
DTEND;TZID=UTC:20170806T230000
DTSTAMP:20260425T111354
CREATED:20170601T154611Z
LAST-MODIFIED:20170601T154611Z
UID:808-1502046000-1502060400@pleaserock.com
SUMMARY:Yacht Rock Revue at Steppingstone Waterside Theatre
DESCRIPTION:
URL:https://pleaserock.com/event/yacht-rock-revue-at-steppingstone-waterside-theatre/
LOCATION:Steppingstone Waterside Theatre\, 38 Steppingstone Lane\, Great Neck\, NY\, 11024\, United States
END:VEVENT
BEGIN:VEVENT
DTSTART;TZID=UTC:20170804T200000
DTEND;TZID=UTC:20170804T230000
DTSTAMP:20260425T111354
CREATED:20170501T202821Z
LAST-MODIFIED:20170501T202821Z
UID:743-1501876800-1501887600@pleaserock.com
SUMMARY:Yacht Rock Revue at Baltimore Soundstage
DESCRIPTION:
URL:https://pleaserock.com/event/yacht-rock-revue-at-baltimore-soundstage/
LOCATION:Baltimore Soundstage\, 124 Market Pl\, Baltimore\, MD\, 21202\, United States
END:VEVENT
BEGIN:VEVENT
DTSTART;TZID=UTC:20170803T200000
DTEND;TZID=UTC:20170803T200000
DTSTAMP:20260425T111354
CREATED:20170501T202412Z
LAST-MODIFIED:20170801T151407Z
UID:740-1501790400-1501790400@pleaserock.com
SUMMARY:Yacht Rock Revue at 97.3 Eagles Nest
DESCRIPTION:
URL:https://pleaserock.com/event/yacht-rock-revue-at-97-3-eagles-nest/
LOCATION:97.3 Eagles Nest\, 600 Nevan Rd\, Virginia Beach\, VA\, 23451
END:VEVENT
BEGIN:VEVENT
DTSTART;TZID=UTC:20170729T190000
DTEND;TZID=UTC:20170729T230000
DTSTAMP:20260425T111354
CREATED:20170502T145132Z
LAST-MODIFIED:20170502T145132Z
UID:747-1501354800-1501369200@pleaserock.com
SUMMARY:Yacht Rock Revue at Mallow Run Winery
DESCRIPTION:
URL:https://pleaserock.com/event/yacht-rock-revue-at-mallow-run-winery/
LOCATION:Mallow Run Winery\, 6964 W Whiteland Rd\, Bargersville\, IN\, 46106\, United States
END:VEVENT
BEGIN:VEVENT
DTSTART;TZID=UTC:20170728T193000
DTEND;TZID=UTC:20170728T230000
DTSTAMP:20260425T111354
CREATED:20170428T160307Z
LAST-MODIFIED:20170428T160307Z
UID:729-1501270200-1501282800@pleaserock.com
SUMMARY:Yacht Rock Revue at House of Blues Chicago
DESCRIPTION:
URL:https://pleaserock.com/event/yacht-rock-revue-at-house-of-blues-chicago/
LOCATION:House of Blues Chicago\, 329 N Dearborn St\, Chicago\, IL\, 60654\, United States
END:VEVENT
BEGIN:VEVENT
DTSTART;TZID=UTC:20170722T190000
DTEND;TZID=UTC:20170722T230000
DTSTAMP:20260425T111354
CREATED:20170508T153259Z
LAST-MODIFIED:20170711T211834Z
UID:754-1500750000-1500764400@pleaserock.com
SUMMARY:Yacht Rock Revival at Ford Amphitheater
DESCRIPTION:
URL:https://pleaserock.com/event/yacht-rock-revival-ford-amphitheater/
LOCATION:Ford Amphitheater\, 3052 WEST 21ST STREET\, Brooklyn\, NY\, 11224\, United States
END:VEVENT
BEGIN:VEVENT
DTSTART;TZID=UTC:20170714T200000
DTEND;TZID=UTC:20170714T230000
DTSTAMP:20260425T111354
CREATED:20170501T201819Z
LAST-MODIFIED:20170501T203038Z
UID:737-1500062400-1500073200@pleaserock.com
SUMMARY:Yacht Rock Revue at Belle of Louisville
DESCRIPTION:
URL:https://pleaserock.com/event/yacht-rock-revue-at-belle-of-louisville/
LOCATION:Belle of Louisville\, 401 W River Rd\, Louisville\, KY\, 40202\, United States
END:VEVENT
BEGIN:VEVENT
DTSTART;TZID=UTC:20170713T190000
DTEND;TZID=UTC:20170713T230000
DTSTAMP:20260425T111354
CREATED:20170411T155508Z
LAST-MODIFIED:20170411T155508Z
UID:678-1499972400-1499986800@pleaserock.com
SUMMARY:Yacht Rock Revue at Manchester Music Hall
DESCRIPTION:
URL:https://pleaserock.com/event/yacht-rock-revue-at-manchester-music-hall/
LOCATION:Manchester Music Hall\, 899 Manchester St\, Lexington\, KY\, 40508\, United States
END:VEVENT
BEGIN:VEVENT
DTSTART;TZID=UTC:20170707T220000
DTEND;TZID=UTC:20170707T220000
DTSTAMP:20260425T111354
CREATED:20170531T153113Z
LAST-MODIFIED:20170531T153113Z
UID:805-1499464800-1499464800@pleaserock.com
SUMMARY:Please PleaseRock Me – A Smooth Tribute to the Beatles at Venkman's
DESCRIPTION:
URL:https://pleaserock.com/event/please-pleaserock-me-a-smooth-tribute-to-the-beatles-at-venkmans/
LOCATION:Venkman’s\, 740 Ralph McGill Blvd\, Atlanta\, GA\, 30312\, United States
END:VEVENT
BEGIN:VEVENT
DTSTART;TZID=UTC:20170625T190000
DTEND;TZID=UTC:20170625T230000
DTSTAMP:20260425T111354
CREATED:20170531T152526Z
LAST-MODIFIED:20170531T152526Z
UID:803-1498417200-1498431600@pleaserock.com
SUMMARY:Yacht Rock Revue UNPLUGGED at Venkman's
DESCRIPTION:
URL:https://pleaserock.com/event/yacht-rock-revue-unplugged-at-venkmans/
LOCATION:Venkman’s\, 740 Ralph McGill Blvd\, Atlanta\, GA\, 30312\, United States
END:VEVENT
BEGIN:VEVENT
DTSTART;TZID=UTC:20170623T220000
DTEND;TZID=UTC:20170623T230000
DTSTAMP:20260425T111354
CREATED:20170414T182546Z
LAST-MODIFIED:20170414T182546Z
UID:720-1498255200-1498258800@pleaserock.com
SUMMARY:Yacht Rock Revue at The Underground
DESCRIPTION:
URL:https://pleaserock.com/event/yacht-rock-revue-at-the-underground/
LOCATION:The Underground\, 820 Hamilton St.\, Charlotte\, NC\, 28206\, United States
END:VEVENT
BEGIN:VEVENT
DTSTART;TZID=UTC:20170619T200000
DTEND;TZID=UTC:20170619T230000
DTSTAMP:20260425T111354
CREATED:20170531T151935Z
LAST-MODIFIED:20170531T153722Z
UID:796-1497902400-1497913200@pleaserock.com
SUMMARY:Yacht Rock Revue at J. Dan Talbot Amphitheater
DESCRIPTION:
URL:https://pleaserock.com/event/yacht-rock-revue-at-j-dan-talbot-amphitheater/
LOCATION:J Dan Talbot Amphitheater\, 107 E Stephen Foster Ave\, Bardstown\, KY\, 40004\, United States
END:VEVENT
BEGIN:VEVENT
DTSTART;TZID=UTC:20170617T200000
DTEND;TZID=UTC:20170617T230000
DTSTAMP:20260425T111354
CREATED:20170531T145920Z
LAST-MODIFIED:20170531T145920Z
UID:790-1497729600-1497740400@pleaserock.com
SUMMARY:Yacht Rock Revival at 4 Bears Casino & Lodge
DESCRIPTION:
URL:https://pleaserock.com/event/yacht-rock-revival-at-4-bears-casino-lodge/
LOCATION:4 Bears Casino & Lodge\, 202 Frontage Rd\, New Town\, ND\, 58763\, United States
END:VEVENT
BEGIN:VEVENT
DTSTART;TZID=UTC:20170616T190000
DTEND;TZID=UTC:20170616T230000
DTSTAMP:20260425T111354
CREATED:20170317T202259Z
LAST-MODIFIED:20170317T202259Z
UID:665-1497639600-1497654000@pleaserock.com
SUMMARY:Yacht Rock Revue at Avondale Brewing Company
DESCRIPTION:
URL:https://pleaserock.com/event/yacht-rock-revue-at-avondale-brewing-company/
LOCATION:Avondale Brewing Co.\, 201 41st St S\, Birmingham\, AL\, 35222\, United States
END:VEVENT
BEGIN:VEVENT
DTSTART;TZID=UTC:20170610T193000
DTEND;TZID=UTC:20170610T230000
DTSTAMP:20260425T111354
CREATED:20170410T212706Z
LAST-MODIFIED:20170410T212706Z
UID:675-1497123000-1497135600@pleaserock.com
SUMMARY:Yacht Rock Revue at House of Blues Orlando
DESCRIPTION:
URL:https://pleaserock.com/event/yacht-rock-revue-at-house-of-blues-orlando/
LOCATION:House of Blues Orlando\, 1490 Buena Vista Dr.\, Lake Buena Vista\, FL\, 32830\, United States
END:VEVENT
BEGIN:VEVENT
DTSTART;TZID=UTC:20170609T180000
DTEND;TZID=UTC:20170609T230000
DTSTAMP:20260425T111354
CREATED:20170421T194421Z
LAST-MODIFIED:20170421T194421Z
UID:723-1497031200-1497049200@pleaserock.com
SUMMARY:Yacht Rock Revue at Jannus Live
DESCRIPTION:
URL:https://pleaserock.com/event/yacht-rock-revue-at-jannus-live/
LOCATION:Jannus Live\, 200 1st Ave N\, St. Petersburg\, FL\, 33701\, United States
END:VEVENT
BEGIN:VEVENT
DTSTART;TZID=UTC:20170608T200000
DTEND;TZID=UTC:20170608T230000
DTSTAMP:20260425T111354
CREATED:20170321T212100Z
LAST-MODIFIED:20170321T212100Z
UID:671-1496952000-1496962800@pleaserock.com
SUMMARY:Yacht Rock Revue at Southwest Florida Performing Arts Center
DESCRIPTION:
URL:https://pleaserock.com/event/yacht-rock-revue-at-southwest-florida-performing-arts-center/
LOCATION:Southwest Florida Performing Arts Center\, 11515 Bonita Beach Rd SE \, Bonita Springs\, FL\, 34235\, United States
END:VEVENT
BEGIN:VEVENT
DTSTART;TZID=UTC:20170527T200000
DTEND;TZID=UTC:20170527T230000
DTSTAMP:20260425T111354
CREATED:20170321T185018Z
LAST-MODIFIED:20170321T185018Z
UID:668-1495915200-1495926000@pleaserock.com
SUMMARY:Yacht Rock Revue at Frederick Brown Jr Amphitheater
DESCRIPTION:
URL:https://pleaserock.com/event/yacht-rock-revue-at-frederick-brown-jr-amphitheater/
LOCATION:Frederick Brown Jr Amphitheater\, 201 McIntosh Trail\, Peachtree City\, GA\, 30269\, United States
END:VEVENT
BEGIN:VEVENT
DTSTART;TZID=UTC:20170519T220000
DTEND;TZID=UTC:20170519T233000
DTSTAMP:20260425T111354
CREATED:20170501T195825Z
LAST-MODIFIED:20170501T195825Z
UID:734-1495231200-1495236600@pleaserock.com
SUMMARY:Yacht Rock Revue Unplugged (10PM) at Venkman's
DESCRIPTION:
URL:https://pleaserock.com/event/yacht-rock-revue-unplugged-10pm-at-venkmans/
LOCATION:Venkman’s\, 740 Ralph McGill Blvd\, Atlanta\, GA\, 30312\, United States
END:VEVENT
BEGIN:VEVENT
DTSTART;TZID=UTC:20170519T190000
DTEND;TZID=UTC:20170519T203000
DTSTAMP:20260425T111354
CREATED:20170501T195446Z
LAST-MODIFIED:20170501T195923Z
UID:732-1495220400-1495225800@pleaserock.com
SUMMARY:Yacht Rock Revue Unplugged (7PM) at Venkman's
DESCRIPTION:
URL:https://pleaserock.com/event/yacht-rock-revue-unplugged-at-venkmans-early-show/
LOCATION:Venkman’s\, 740 Ralph McGill Blvd\, Atlanta\, GA\, 30312\, United States
END:VEVENT
BEGIN:VEVENT
DTSTART;TZID=UTC:20170512T190000
DTEND;TZID=UTC:20170512T230000
DTSTAMP:20260425T111354
CREATED:20170425T171650Z
LAST-MODIFIED:20170425T171650Z
UID:726-1494615600-1494630000@pleaserock.com
SUMMARY:Yacht Rock Revue at TPC Sugarloaf
DESCRIPTION:
URL:https://pleaserock.com/event/yacht-rock-revue-at-tpc-sugarloaf/
LOCATION:TPC Sugarloaf\, 2595 Sugarloaf Club Dr\, Duluth\, GA\, 30097
END:VEVENT
BEGIN:VEVENT
DTSTART;TZID=UTC:20170428T190000
DTEND;TZID=UTC:20170428T230000
DTSTAMP:20260425T111354
CREATED:20170308T180448Z
LAST-MODIFIED:20170308T180448Z
UID:657-1493406000-1493420400@pleaserock.com
SUMMARY:Yacht Rock Revue performs Purple Rain in Piedmont Park
DESCRIPTION:
URL:https://pleaserock.com/event/yacht-rock-revue-performs-purple-rain-in-piedmont-park/
LOCATION:Legacy Fountain in Piedmont Park\, 1342 Worchester Drive NE \, Atlanta\, GA\, 30306\, United States
END:VEVENT
BEGIN:VEVENT
DTSTART;TZID=UTC:20170427T183000
DTEND;TZID=UTC:20170427T220000
DTSTAMP:20260425T111354
CREATED:20170307T163313Z
LAST-MODIFIED:20170307T163313Z
UID:651-1493317800-1493330400@pleaserock.com
SUMMARY:Yacht Rock Revue at Venkman's
DESCRIPTION:
URL:https://pleaserock.com/event/yacht-rock-revue-at-venkmans-4/
LOCATION:Venkman’s\, 740 Ralph McGill Blvd\, Atlanta\, GA\, 30312\, United States
END:VEVENT
BEGIN:VEVENT
DTSTART;TZID=UTC:20170422T180000
DTEND;TZID=UTC:20170422T230000
DTSTAMP:20260425T111354
CREATED:20170309T183530Z
LAST-MODIFIED:20170309T183530Z
UID:660-1492884000-1492902000@pleaserock.com
SUMMARY:Yacht Rock Revue at Engel Stadium
DESCRIPTION:
URL:https://pleaserock.com/event/yacht-rock-revue-at-engel-stadium/
LOCATION:Engel Stadium\, 1130 E 3rd St\, Chattanooga\, TN\, 34703\, United States
END:VEVENT
BEGIN:VEVENT
DTSTART;TZID=UTC:20170421T210000
DTEND;TZID=UTC:20170422T000000
DTSTAMP:20260425T111354
CREATED:20170109T171300Z
LAST-MODIFIED:20170109T171300Z
UID:588-1492808400-1492819200@pleaserock.com
SUMMARY:Yacht Rock Revue at The Vogue
DESCRIPTION:
URL:https://pleaserock.com/event/yacht-rock-revue-at-the-vogue/
LOCATION:The Vogue\, 6259 N College Ave\, Indianapolis\, IN\, 46220\, United States
END:VEVENT
BEGIN:VEVENT
DTSTART;TZID=UTC:20170420T203000
DTEND;TZID=UTC:20170420T230000
DTSTAMP:20260425T111354
CREATED:20170307T162752Z
LAST-MODIFIED:20170307T162752Z
UID:647-1492720200-1492729200@pleaserock.com
SUMMARY:Yacht Rock Revue at Joe's on Weed St.
DESCRIPTION:
URL:https://pleaserock.com/event/yacht-rock-revue-at-joes-on-weed-st/
LOCATION:Joe’s on Weed St.\, 940 W Weed St\, Chicago\, IL\, 60642\, United States
END:VEVENT
BEGIN:VEVENT
DTSTART;TZID=UTC:20170414T210000
DTEND;TZID=UTC:20170414T230000
DTSTAMP:20260425T111354
CREATED:20170307T162505Z
LAST-MODIFIED:20170307T162505Z
UID:645-1492203600-1492210800@pleaserock.com
SUMMARY:Yacht Rock Revue at Venkman's
DESCRIPTION:
URL:https://pleaserock.com/event/yacht-rock-revue-at-venkmans-3/
LOCATION:Venkman’s\, 740 Ralph McGill Blvd\, Atlanta\, GA\, 30312\, United States
END:VEVENT
BEGIN:VEVENT
DTSTART;TZID=UTC:20170331T080000
DTEND;TZID=UTC:20170331T230000
DTSTAMP:20260425T111354
CREATED:20170130T222133Z
LAST-MODIFIED:20170130T222133Z
UID:629-1490947200-1491001200@pleaserock.com
SUMMARY:Yacht Rock Revue at Variety Playhouse
DESCRIPTION:
URL:https://pleaserock.com/event/yacht-rock-revue-at-variety-playhouse-2/
LOCATION:Variety Playhouse\, 1099 Euclid Ave NE\, Atlanta\, GA\, 30307\, United States
END:VEVENT
END:VCALENDAR