BEGIN:VCALENDAR
VERSION:2.0
PRODID:-//PleaseRock - ECPv6.9.0//NONSGML v1.0//EN
CALSCALE:GREGORIAN
METHOD:PUBLISH
X-WR-CALNAME:PleaseRock
X-ORIGINAL-URL:https://pleaserock.com
X-WR-CALDESC:Events for PleaseRock
REFRESH-INTERVAL;VALUE=DURATION:PT1H
X-Robots-Tag:noindex
X-PUBLISHED-TTL:PT1H
BEGIN:VTIMEZONE
TZID:UTC
BEGIN:STANDARD
TZOFFSETFROM:+0000
TZOFFSETTO:+0000
TZNAME:UTC
DTSTART:20190101T000000
END:STANDARD
END:VTIMEZONE
BEGIN:VEVENT
DTSTART;VALUE=DATE:20200311
DTEND;VALUE=DATE:20200312
DTSTAMP:20260419T223512
CREATED:20191014T184431Z
LAST-MODIFIED:20191015T143505Z
UID:1757-1583884800-1583971199@pleaserock.com
SUMMARY:Yacht Rock Revue at JaM Cellars Ballroom
DESCRIPTION:
URL:https://pleaserock.com/event/yacht-rock-revue-at-jam-cellars-ballroom/
LOCATION:JaM Cellars Ballroom\, 1030 Main St\, Napa\, CA\, 94559\, United States
CATEGORIES:Yacht Rock
END:VEVENT
BEGIN:VEVENT
DTSTART;VALUE=DATE:20200308
DTEND;VALUE=DATE:20200309
DTSTAMP:20260419T223512
CREATED:20191014T133337Z
LAST-MODIFIED:20191014T160503Z
UID:1754-1583625600-1583711999@pleaserock.com
SUMMARY:Yacht Rock Revue at The Rialto Theatre
DESCRIPTION:
URL:https://pleaserock.com/event/yacht-rock-revue-at-the-rialto-theatre/
LOCATION:The Rialto Theatre\, 318 E Congress St\, Tucson\, AZ\, 85701\, United States
CATEGORIES:Yacht Rock
END:VEVENT
BEGIN:VEVENT
DTSTART;TZID=UTC:20200307T150000
DTEND;TZID=UTC:20200307T180000
DTSTAMP:20260419T223512
CREATED:20200217T203825Z
LAST-MODIFIED:20200217T203956Z
UID:1925-1583593200-1583604000@pleaserock.com
SUMMARY:Yacht Rock Schooner @ Lassiter Concert Hall - QUEEN SHOW
DESCRIPTION:
URL:https://pleaserock.com/event/yacht-rock-schooner-lassiter-concert-hall-queen-show/
LOCATION:Lassiter Concert Hall\, 2601 Shallowford Road\, Marietta\, GA\, 30066\, United States
CATEGORIES:Yacht Rock Schooner
END:VEVENT
BEGIN:VEVENT
DTSTART;VALUE=DATE:20200307
DTEND;VALUE=DATE:20200308
DTSTAMP:20260419T223512
CREATED:20191014T132411Z
LAST-MODIFIED:20191014T160407Z
UID:1752-1583539200-1583625599@pleaserock.com
SUMMARY:Yacht Rock Revue at The Van Buren
DESCRIPTION:
URL:https://pleaserock.com/event/yacht-rock-revue-at-the-van-buren-2/
LOCATION:The Van Buren\, 401 W Van Buren St\, Phoenix\, AZ\, 85003\, United States
CATEGORIES:Yacht Rock
END:VEVENT
BEGIN:VEVENT
DTSTART;VALUE=DATE:20200306
DTEND;VALUE=DATE:20200307
DTSTAMP:20260419T223512
CREATED:20191014T161604Z
LAST-MODIFIED:20191015T143324Z
UID:1749-1583452800-1583539199@pleaserock.com
SUMMARY:Yacht Rock Revue at The Observatory North Park
DESCRIPTION:
URL:https://pleaserock.com/event/yacht-rock-revue-at-the-observatory-north-park/
LOCATION:The Observatory North Park\, 2891 University Ave\, San Diego\, CA\, 92104\, United States
CATEGORIES:Yacht Rock
END:VEVENT
BEGIN:VEVENT
DTSTART;VALUE=DATE:20200305
DTEND;VALUE=DATE:20200306
DTSTAMP:20260419T223512
CREATED:20191014T132329Z
LAST-MODIFIED:20191014T160319Z
UID:1746-1583366400-1583452799@pleaserock.com
SUMMARY:Yacht Rock Revue at The Wiltern
DESCRIPTION:
URL:https://pleaserock.com/event/yacht-rock-revue-at-the-wiltern/
LOCATION:The Wiltern\, 3790 Wilshire Blvd\, Los Angeles\, CA\, 90010\, United States
CATEGORIES:Yacht Rock
END:VEVENT
BEGIN:VEVENT
DTSTART;VALUE=DATE:20200229
DTEND;VALUE=DATE:20200301
DTSTAMP:20260419T223512
CREATED:20191014T133248Z
LAST-MODIFIED:20191014T160251Z
UID:1743-1582934400-1583020799@pleaserock.com
SUMMARY:Yacht Rock Revue at The Neptune Theatre
DESCRIPTION:
URL:https://pleaserock.com/event/yacht-rock-revue-at-the-neptune-theatre/
LOCATION:The Neptune Theatre\, 1303 NE 45th St\, Seattle\, WA\, 98105\, United States
CATEGORIES:Yacht Rock
END:VEVENT
BEGIN:VEVENT
DTSTART;TZID=UTC:20200228T200000
DTEND;TZID=UTC:20200228T220000
DTSTAMP:20260419T223512
CREATED:20200214T190216Z
LAST-MODIFIED:20200214T190216Z
UID:1922-1582920000-1582927200@pleaserock.com
SUMMARY:Yacht Rock Revue at Mississippi Studios
DESCRIPTION:
URL:https://pleaserock.com/event/yacht-rock-revue-at-mississippi-studios/
LOCATION:Mississippi Studios\, 3939 N Mississippi Ave\, Portland\, OR\, 97227\, United States
CATEGORIES:Yacht Rock
END:VEVENT
BEGIN:VEVENT
DTSTART;VALUE=DATE:20200227
DTEND;VALUE=DATE:20200228
DTSTAMP:20260419T223512
CREATED:20191014T133206Z
LAST-MODIFIED:20191014T160216Z
UID:1741-1582761600-1582847999@pleaserock.com
SUMMARY:Yacht Rock Revue at Revolution Hall
DESCRIPTION:
URL:https://pleaserock.com/event/yacht-rock-revue-at-revolution-hall-2/
LOCATION:Revolution Hall\, 1300 SE STARK ST\, Portland\, OR\, 97214\, United States
CATEGORIES:Yacht Rock
END:VEVENT
BEGIN:VEVENT
DTSTART;VALUE=DATE:20200222
DTEND;VALUE=DATE:20200223
DTSTAMP:20260419T223512
CREATED:20191014T133132Z
LAST-MODIFIED:20191014T160109Z
UID:1738-1582329600-1582415999@pleaserock.com
SUMMARY:Yacht Rock Revue at The Riverwalk Center
DESCRIPTION:
URL:https://pleaserock.com/event/yacht-rock-revue-at-the-riverwalk-center/
LOCATION:The Riverwalk Center\, 150 W Adams Ave\, Breckenridge\, CO\, 80424\, United States
CATEGORIES:Yacht Rock
END:VEVENT
BEGIN:VEVENT
DTSTART;VALUE=DATE:20200221
DTEND;VALUE=DATE:20200222
DTSTAMP:20260419T223513
CREATED:20191014T133058Z
LAST-MODIFIED:20191014T155932Z
UID:1735-1582243200-1582329599@pleaserock.com
SUMMARY:Yacht Rock Revue at Mission Ballroom
DESCRIPTION:
URL:https://pleaserock.com/event/yacht-rock-revue-at-mission-ballroom/
LOCATION:Mission Ballroom\, 4242 Wynkoop St\, Denver\, CO\, 80216\, United States
CATEGORIES:Yacht Rock
END:VEVENT
BEGIN:VEVENT
DTSTART;TZID=UTC:20200214T200000
DTEND;TZID=UTC:20200214T220000
DTSTAMP:20260419T223513
CREATED:20191120T163604Z
LAST-MODIFIED:20191120T163604Z
UID:1906-1581710400-1581717600@pleaserock.com
SUMMARY:The Best Damn Queen show ever! with Yacht Rock Schooner @ Variety Playhouse
DESCRIPTION:
URL:https://pleaserock.com/event/the-best-damn-queen-show-ever-with-yacht-rock-schooner-variety-playhouse/
LOCATION:Variety Playhouse\, 1099 Euclid Ave NE\, Atlanta\, GA\, 30307\, United States
CATEGORIES:Yacht Rock Schooner
END:VEVENT
BEGIN:VEVENT
DTSTART;VALUE=DATE:20200208
DTEND;VALUE=DATE:20200209
DTSTAMP:20260419T223513
CREATED:20191014T132243Z
LAST-MODIFIED:20191014T155833Z
UID:1732-1581120000-1581206399@pleaserock.com
SUMMARY:Yacht Rock Revue at House of Blues Orlando
DESCRIPTION:
URL:https://pleaserock.com/event/yacht-rock-revue-at-house-of-blues-orlando-2/
LOCATION:House of Blues Orlando\, 1490 Buena Vista Dr.\, Lake Buena Vista\, FL\, 32830\, United States
CATEGORIES:Yacht Rock
END:VEVENT
BEGIN:VEVENT
DTSTART;VALUE=DATE:20200207
DTEND;VALUE=DATE:20200208
DTSTAMP:20260419T223513
CREATED:20191014T132202Z
LAST-MODIFIED:20191014T155755Z
UID:1730-1581033600-1581119999@pleaserock.com
SUMMARY:Yacht Rock Revue at Revolution Live
DESCRIPTION:
URL:https://pleaserock.com/event/yacht-rock-revue-at-revolution-live-2/
LOCATION:Revolution Live\, Ft. Lauderdale\, FL\, United States
CATEGORIES:Yacht Rock
END:VEVENT
BEGIN:VEVENT
DTSTART;VALUE=DATE:20200206
DTEND;VALUE=DATE:20200207
DTSTAMP:20260419T223513
CREATED:20191014T184506Z
LAST-MODIFIED:20191015T143114Z
UID:1728-1580947200-1581033599@pleaserock.com
SUMMARY:Yacht Rock Revue at Jannus Live
DESCRIPTION:
URL:https://pleaserock.com/event/yacht-rock-revue-at-jannus-live-3/
LOCATION:Jannus Live\, 200 1st Ave N\, St. Petersburg\, FL\, 33701\, United States
CATEGORIES:Yacht Rock
END:VEVENT
BEGIN:VEVENT
DTSTART;VALUE=DATE:20200116
DTEND;VALUE=DATE:20200117
DTSTAMP:20260419T223513
CREATED:20191014T133007Z
LAST-MODIFIED:20191014T155711Z
UID:1726-1579132800-1579219199@pleaserock.com
SUMMARY:Yacht Rock Revue at Georgia Theatre
DESCRIPTION:
URL:https://pleaserock.com/event/yacht-rock-revue-at-georgia-theatre-5/
LOCATION:Georgia Theatre\, Athens\, GA\, United States
CATEGORIES:Yacht Rock
END:VEVENT
BEGIN:VEVENT
DTSTART;VALUE=DATE:20200111
DTEND;VALUE=DATE:20200112
DTSTAMP:20260419T223513
CREATED:20191014T132031Z
LAST-MODIFIED:20191014T155638Z
UID:1722-1578700800-1578787199@pleaserock.com
SUMMARY:Yacht Rock Revue at Egyptian Room at Old National Centre
DESCRIPTION:
URL:https://pleaserock.com/event/yacht-rock-revue-at-egyptian-room-at-old-national-centre-3/
LOCATION:Egyptian Room at Old National Centre\, 502 N New Jersey St\, Indianapolis\, IN\, United States
CATEGORIES:Yacht Rock
END:VEVENT
BEGIN:VEVENT
DTSTART;VALUE=DATE:20200110
DTEND;VALUE=DATE:20200111
DTSTAMP:20260419T223513
CREATED:20191014T131935Z
LAST-MODIFIED:20191014T155536Z
UID:1724-1578614400-1578700799@pleaserock.com
SUMMARY:Yacht Rock Revue at Egyptian Room at Old National Centre
DESCRIPTION:
URL:https://pleaserock.com/event/yacht-rock-revue-at-egyptian-room-at-old-national-centre-2/
LOCATION:Egyptian Room at Old National Centre\, 502 N New Jersey St\, Indianapolis\, IN\, United States
CATEGORIES:Yacht Rock
END:VEVENT
BEGIN:VEVENT
DTSTART;VALUE=DATE:20200109
DTEND;VALUE=DATE:20200110
DTSTAMP:20260419T223513
CREATED:20191014T173428Z
LAST-MODIFIED:20191015T143020Z
UID:1720-1578528000-1578614399@pleaserock.com
SUMMARY:Yacht Rock Revue at Manchester Music Hall
DESCRIPTION:
URL:https://pleaserock.com/event/yacht-rock-revue-at-manchester-music-hall-2/
LOCATION:Manchester Music Hall\, 899 Manchester St\, Lexington\, KY\, 40508\, United States
CATEGORIES:Yacht Rock
END:VEVENT
BEGIN:VEVENT
DTSTART;TZID=UTC:20191231T210000
DTEND;TZID=UTC:20191231T230000
DTSTAMP:20260419T223513
CREATED:20191113T181720Z
LAST-MODIFIED:20191113T181720Z
UID:1904-1577826000-1577833200@pleaserock.com
SUMMARY:Yacht Rock Schooner @ The Vista Room
DESCRIPTION:
URL:https://pleaserock.com/event/yacht-rock-schooner-the-vista-room-6/
LOCATION:Vista Room\, 2836 Lavista Rd\, Decatur\, GA\, 30033\, United States
CATEGORIES:Yacht Rock Schooner
END:VEVENT
BEGIN:VEVENT
DTSTART;TZID=UTC:20191221T200000
DTEND;TZID=UTC:20191221T220000
DTSTAMP:20260419T223513
CREATED:20191010T191417Z
LAST-MODIFIED:20191010T191417Z
UID:1718-1576958400-1576965600@pleaserock.com
SUMMARY:Yacht Rock Revue at Coca-Cola Roxy
DESCRIPTION:
URL:https://pleaserock.com/event/yacht-rock-revue-at-coca-cola-roxy/
LOCATION:Coca Cola Roxy\, 800 Battery Ave SE #500\, Atlanta\, GA\, 30339\, United States
CATEGORIES:Yacht Rock
END:VEVENT
BEGIN:VEVENT
DTSTART;TZID=UTC:20191213T210000
DTEND;TZID=UTC:20191213T230000
DTSTAMP:20260419T223513
CREATED:20191107T155017Z
LAST-MODIFIED:20191107T155017Z
UID:1902-1576270800-1576278000@pleaserock.com
SUMMARY:Yacht Rock Schooner @ The Brass Tap
DESCRIPTION:
URL:https://pleaserock.com/event/yacht-rock-schooner-the-brass-tap/
LOCATION:Brass Tap Dunwoody\, 4505 Ashford Dunwoody Rd\, Atlanta\, GA\, 30346\, United States
CATEGORIES:Yacht Rock Schooner
END:VEVENT
BEGIN:VEVENT
DTSTART;TZID=UTC:20191213T200000
DTEND;TZID=UTC:20191213T220000
DTSTAMP:20260419T223513
CREATED:20190618T144605Z
LAST-MODIFIED:20190618T144605Z
UID:1647-1576267200-1576274400@pleaserock.com
SUMMARY:Yacht Rock Revue at Iron City
DESCRIPTION:
URL:https://pleaserock.com/event/yacht-rock-revue-at-iron-city/
LOCATION:Iron City\, 513 22nd Street S\, Birmingham\, AL\, United States
CATEGORIES:Yacht Rock
END:VEVENT
BEGIN:VEVENT
DTSTART;TZID=UTC:20191206T200000
DTEND;TZID=UTC:20191206T220000
DTSTAMP:20260419T223513
CREATED:20191120T171940Z
LAST-MODIFIED:20191120T171940Z
UID:1908-1575662400-1575669600@pleaserock.com
SUMMARY:Yacht Rock Schooner @ The Vista Room
DESCRIPTION:
URL:https://pleaserock.com/event/yacht-rock-schooner-the-vista-room-7/
LOCATION:Vista Room\, 2836 Lavista Rd\, Decatur\, GA\, 30033\, United States
CATEGORIES:Yacht Rock Schooner
END:VEVENT
BEGIN:VEVENT
DTSTART;TZID=UTC:20191130T210000
DTEND;TZID=UTC:20191130T230000
DTSTAMP:20260419T223513
CREATED:20191014T203828Z
LAST-MODIFIED:20191014T203828Z
UID:1880-1575147600-1575154800@pleaserock.com
SUMMARY:Yacht Rock Schooner @ Route 66 Johns Creek
DESCRIPTION:
URL:https://pleaserock.com/event/yacht-rock-schooner-route-66-johns-creek/
LOCATION:Route 66\, 6000 Medlock Bridge Pkwy STE F100\, Johns Creek\, GA\, United States
CATEGORIES:Yacht Rock Schooner
END:VEVENT
BEGIN:VEVENT
DTSTART;TZID=UTC:20191129T190000
DTEND;TZID=UTC:20191129T200000
DTSTAMP:20260419T223513
CREATED:20191127T155305Z
LAST-MODIFIED:20191127T155305Z
UID:1910-1575054000-1575057600@pleaserock.com
SUMMARY:Yacht Rock Revue at Criminal Records
DESCRIPTION:
URL:https://pleaserock.com/event/yacht-rock-revue-at-criminal-records/
LOCATION:TX
CATEGORIES:Yacht Rock
END:VEVENT
BEGIN:VEVENT
DTSTART;TZID=UTC:20191109T213000
DTEND;TZID=UTC:20191109T233000
DTSTAMP:20260419T223513
CREATED:20190918T161537Z
LAST-MODIFIED:20190918T161537Z
UID:1702-1573335000-1573342200@pleaserock.com
SUMMARY:Yacht Rock Schooner @ Brooklyn Cantina
DESCRIPTION:
URL:https://pleaserock.com/event/yacht-rock-schooner-brooklyn-cantina/
LOCATION:Original Brooklyn Cantina\, 9945 Jones Bridge Rd\, Ste 301\, Johns Creek\, GA\, 30022\, United States
CATEGORIES:Yacht Rock Schooner
END:VEVENT
BEGIN:VEVENT
DTSTART;TZID=UTC:20191109T210000
DTEND;TZID=UTC:20191109T230000
DTSTAMP:20260419T223513
CREATED:20190812T171348Z
LAST-MODIFIED:20190812T171348Z
UID:1679-1573333200-1573340400@pleaserock.com
SUMMARY:Yacht Rock Revue at Mercury Ballroom
DESCRIPTION:
URL:https://pleaserock.com/event/yacht-rock-revue-at-mercury-ballroom-2/
LOCATION:Mercury Ballroom\, Lousville\, KY\, United States
CATEGORIES:Yacht Rock
END:VEVENT
BEGIN:VEVENT
DTSTART;TZID=UTC:20191108T213000
DTEND;TZID=UTC:20191108T233000
DTSTAMP:20260419T223513
CREATED:20191002T190655Z
LAST-MODIFIED:20191002T190655Z
UID:1713-1573248600-1573255800@pleaserock.com
SUMMARY:Yacht Rock Schooner Tribute to Queen @ Venkman's
DESCRIPTION:
URL:https://pleaserock.com/event/yacht-rock-schooner-tribute-to-queen-venkmans/
LOCATION:Venkman’s\, 740 Ralph McGill Blvd\, Atlanta\, GA\, 30312\, United States
CATEGORIES:Yacht Rock Schooner
END:VEVENT
BEGIN:VEVENT
DTSTART;TZID=UTC:20191108T200000
DTEND;TZID=UTC:20191108T220000
DTSTAMP:20260419T223513
CREATED:20190618T144431Z
LAST-MODIFIED:20190618T144431Z
UID:1645-1573243200-1573250400@pleaserock.com
SUMMARY:Yacht Rock Revue at Bogart's
DESCRIPTION:
URL:https://pleaserock.com/event/yacht-rock-revue-at-bogarts-3/
LOCATION:Bogarts\, 2621 Vine St\, Cincinnati\, OH\, 45219\, United States
CATEGORIES:Yacht Rock
END:VEVENT
END:VCALENDAR