BEGIN:VCALENDAR
VERSION:2.0
PRODID:-//PleaseRock - ECPv6.9.0//NONSGML v1.0//EN
CALSCALE:GREGORIAN
METHOD:PUBLISH
X-WR-CALNAME:PleaseRock
X-ORIGINAL-URL:https://pleaserock.com
X-WR-CALDESC:Events for PleaseRock
REFRESH-INTERVAL;VALUE=DURATION:PT1H
X-Robots-Tag:noindex
X-PUBLISHED-TTL:PT1H
BEGIN:VTIMEZONE
TZID:UTC
BEGIN:STANDARD
TZOFFSETFROM:+0000
TZOFFSETTO:+0000
TZNAME:UTC
DTSTART:20190101T000000
END:STANDARD
END:VTIMEZONE
BEGIN:VEVENT
DTSTART;TZID=UTC:20191221T200000
DTEND;TZID=UTC:20191221T220000
DTSTAMP:20260420T023052
CREATED:20191010T191417Z
LAST-MODIFIED:20191010T191417Z
UID:1718-1576958400-1576965600@pleaserock.com
SUMMARY:Yacht Rock Revue at Coca-Cola Roxy
DESCRIPTION:
URL:https://pleaserock.com/event/yacht-rock-revue-at-coca-cola-roxy/
LOCATION:Coca Cola Roxy\, 800 Battery Ave SE #500\, Atlanta\, GA\, 30339\, United States
CATEGORIES:Yacht Rock
END:VEVENT
BEGIN:VEVENT
DTSTART;TZID=UTC:20191213T210000
DTEND;TZID=UTC:20191213T230000
DTSTAMP:20260420T023052
CREATED:20191107T155017Z
LAST-MODIFIED:20191107T155017Z
UID:1902-1576270800-1576278000@pleaserock.com
SUMMARY:Yacht Rock Schooner @ The Brass Tap
DESCRIPTION:
URL:https://pleaserock.com/event/yacht-rock-schooner-the-brass-tap/
LOCATION:Brass Tap Dunwoody\, 4505 Ashford Dunwoody Rd\, Atlanta\, GA\, 30346\, United States
CATEGORIES:Yacht Rock Schooner
END:VEVENT
BEGIN:VEVENT
DTSTART;TZID=UTC:20191213T200000
DTEND;TZID=UTC:20191213T220000
DTSTAMP:20260420T023052
CREATED:20190618T144605Z
LAST-MODIFIED:20190618T144605Z
UID:1647-1576267200-1576274400@pleaserock.com
SUMMARY:Yacht Rock Revue at Iron City
DESCRIPTION:
URL:https://pleaserock.com/event/yacht-rock-revue-at-iron-city/
LOCATION:Iron City\, 513 22nd Street S\, Birmingham\, AL\, United States
CATEGORIES:Yacht Rock
END:VEVENT
BEGIN:VEVENT
DTSTART;TZID=UTC:20191206T200000
DTEND;TZID=UTC:20191206T220000
DTSTAMP:20260420T023052
CREATED:20191120T171940Z
LAST-MODIFIED:20191120T171940Z
UID:1908-1575662400-1575669600@pleaserock.com
SUMMARY:Yacht Rock Schooner @ The Vista Room
DESCRIPTION:
URL:https://pleaserock.com/event/yacht-rock-schooner-the-vista-room-7/
LOCATION:Vista Room\, 2836 Lavista Rd\, Decatur\, GA\, 30033\, United States
CATEGORIES:Yacht Rock Schooner
END:VEVENT
BEGIN:VEVENT
DTSTART;TZID=UTC:20191130T210000
DTEND;TZID=UTC:20191130T230000
DTSTAMP:20260420T023052
CREATED:20191014T203828Z
LAST-MODIFIED:20191014T203828Z
UID:1880-1575147600-1575154800@pleaserock.com
SUMMARY:Yacht Rock Schooner @ Route 66 Johns Creek
DESCRIPTION:
URL:https://pleaserock.com/event/yacht-rock-schooner-route-66-johns-creek/
LOCATION:Route 66\, 6000 Medlock Bridge Pkwy STE F100\, Johns Creek\, GA\, United States
CATEGORIES:Yacht Rock Schooner
END:VEVENT
BEGIN:VEVENT
DTSTART;TZID=UTC:20191129T190000
DTEND;TZID=UTC:20191129T200000
DTSTAMP:20260420T023052
CREATED:20191127T155305Z
LAST-MODIFIED:20191127T155305Z
UID:1910-1575054000-1575057600@pleaserock.com
SUMMARY:Yacht Rock Revue at Criminal Records
DESCRIPTION:
URL:https://pleaserock.com/event/yacht-rock-revue-at-criminal-records/
LOCATION:FL
CATEGORIES:Yacht Rock
END:VEVENT
BEGIN:VEVENT
DTSTART;TZID=UTC:20191109T213000
DTEND;TZID=UTC:20191109T233000
DTSTAMP:20260420T023053
CREATED:20190918T161537Z
LAST-MODIFIED:20190918T161537Z
UID:1702-1573335000-1573342200@pleaserock.com
SUMMARY:Yacht Rock Schooner @ Brooklyn Cantina
DESCRIPTION:
URL:https://pleaserock.com/event/yacht-rock-schooner-brooklyn-cantina/
LOCATION:Original Brooklyn Cantina\, 9945 Jones Bridge Rd\, Ste 301\, Johns Creek\, GA\, 30022\, United States
CATEGORIES:Yacht Rock Schooner
END:VEVENT
BEGIN:VEVENT
DTSTART;TZID=UTC:20191109T210000
DTEND;TZID=UTC:20191109T230000
DTSTAMP:20260420T023053
CREATED:20190812T171348Z
LAST-MODIFIED:20190812T171348Z
UID:1679-1573333200-1573340400@pleaserock.com
SUMMARY:Yacht Rock Revue at Mercury Ballroom
DESCRIPTION:
URL:https://pleaserock.com/event/yacht-rock-revue-at-mercury-ballroom-2/
LOCATION:Mercury Ballroom\, Lousville\, KY\, United States
CATEGORIES:Yacht Rock
END:VEVENT
BEGIN:VEVENT
DTSTART;TZID=UTC:20191108T213000
DTEND;TZID=UTC:20191108T233000
DTSTAMP:20260420T023053
CREATED:20191002T190655Z
LAST-MODIFIED:20191002T190655Z
UID:1713-1573248600-1573255800@pleaserock.com
SUMMARY:Yacht Rock Schooner Tribute to Queen @ Venkman's
DESCRIPTION:
URL:https://pleaserock.com/event/yacht-rock-schooner-tribute-to-queen-venkmans/
LOCATION:Venkman’s\, 740 Ralph McGill Blvd\, Atlanta\, GA\, 30312\, United States
CATEGORIES:Yacht Rock Schooner
END:VEVENT
BEGIN:VEVENT
DTSTART;TZID=UTC:20191108T200000
DTEND;TZID=UTC:20191108T220000
DTSTAMP:20260420T023053
CREATED:20190618T144431Z
LAST-MODIFIED:20190618T144431Z
UID:1645-1573243200-1573250400@pleaserock.com
SUMMARY:Yacht Rock Revue at Bogart's
DESCRIPTION:
URL:https://pleaserock.com/event/yacht-rock-revue-at-bogarts-3/
LOCATION:Bogarts\, 2621 Vine St\, Cincinnati\, OH\, 45219\, United States
CATEGORIES:Yacht Rock
END:VEVENT
BEGIN:VEVENT
DTSTART;TZID=UTC:20191027T170000
DTEND;TZID=UTC:20191027T190000
DTSTAMP:20260420T023053
CREATED:20190912T162752Z
LAST-MODIFIED:20190912T162752Z
UID:1700-1572195600-1572202800@pleaserock.com
SUMMARY:Yacht Rock Revue at Moo & Brew
DESCRIPTION:
URL:https://pleaserock.com/event/yacht-rock-revue-at-moo-brew-2/
LOCATION:Moo & Brew\, 1300 Central Ave\, Charlotte\, NC\, 28205\, United States
CATEGORIES:Yacht Rock
END:VEVENT
BEGIN:VEVENT
DTSTART;TZID=UTC:20191026T200000
DTEND;TZID=UTC:20191026T220000
DTSTAMP:20260420T023053
CREATED:20190618T144312Z
LAST-MODIFIED:20190618T144312Z
UID:1642-1572120000-1572127200@pleaserock.com
SUMMARY:Yacht Rock Revue at The Senate
DESCRIPTION:
URL:https://pleaserock.com/event/yacht-rock-revue-at-the-senate/
LOCATION:The Senate\, 1022 Senate Street\, Columbia\, SC\, United States
CATEGORIES:Yacht Rock
END:VEVENT
BEGIN:VEVENT
DTSTART;TZID=UTC:20191025T193000
DTEND;TZID=UTC:20191025T230000
DTSTAMP:20260420T023053
CREATED:20190730T184255Z
LAST-MODIFIED:20190730T184255Z
UID:1667-1572031800-1572044400@pleaserock.com
SUMMARY:Yacht Rock Revue at Walhalla Performing Arts Center
DESCRIPTION:
URL:https://pleaserock.com/event/yacht-rock-revue-at-walhalla-performing-arts-center/
LOCATION:Walhalla Performing Arts Center\, 101 E. North Broad St.\, Walhalla\, SC\, 29691\, United States
CATEGORIES:Yacht Rock
END:VEVENT
BEGIN:VEVENT
DTSTART;TZID=UTC:20191024T180000
DTEND;TZID=UTC:20191024T210000
DTSTAMP:20260420T023053
CREATED:20191002T190146Z
LAST-MODIFIED:20191002T190146Z
UID:1710-1571940000-1571950800@pleaserock.com
SUMMARY:Yacht Rock Schooner @ Brook Run Park
DESCRIPTION:
URL:https://pleaserock.com/event/yacht-rock-schooner-brook-run-park/
LOCATION:Brook Run Park\, 4770 N Peachtree Rd\, Dunwoody\, GA\, 30338\, United States
CATEGORIES:Yacht Rock Schooner
END:VEVENT
BEGIN:VEVENT
DTSTART;TZID=UTC:20191019T190000
DTEND;TZID=UTC:20191019T220000
DTSTAMP:20260420T023053
CREATED:20190819T143800Z
LAST-MODIFIED:20190819T143844Z
UID:1688-1571511600-1571522400@pleaserock.com
SUMMARY:Yacht Rock Revue at Taste of Atlanta
DESCRIPTION:
URL:https://pleaserock.com/event/yacht-rock-revue-at-taste-of-atlanta/
LOCATION:Taste of Atlanta\, 680 Dallas St NE\, Atlanta\, GA\, United States
CATEGORIES:Yacht Rock
END:VEVENT
BEGIN:VEVENT
DTSTART;TZID=UTC:20191018T203000
DTEND;TZID=UTC:20191018T223000
DTSTAMP:20260420T023053
CREATED:20190910T162333Z
LAST-MODIFIED:20190910T162333Z
UID:1697-1571430600-1571437800@pleaserock.com
SUMMARY:Yacht Rock Schooner @ Cone Denim Center
DESCRIPTION:
URL:https://pleaserock.com/event/yacht-rock-schooner-cone-denim-center/
LOCATION:Cone Denim Center\, 117 S Elm Street\, Greensboro\, NC\, 27401\, United States
CATEGORIES:Yacht Rock Schooner
END:VEVENT
BEGIN:VEVENT
DTSTART;TZID=UTC:20191012T193000
DTEND;TZID=UTC:20191012T213000
DTSTAMP:20260420T023053
CREATED:20190621T173321Z
LAST-MODIFIED:20190621T173321Z
UID:1654-1570908600-1570915800@pleaserock.com
SUMMARY:Yacht Rock Revue at Newtown Park Ampitheater
DESCRIPTION:
URL:https://pleaserock.com/event/yacht-rock-revue-at-newtown-park-ampitheater/
LOCATION:Newtown Park Amphitheatre\, 3150 Old Alabama Rd\, Johns Creek\, GA\, 30022\, United States
CATEGORIES:Yacht Rock
END:VEVENT
BEGIN:VEVENT
DTSTART;TZID=UTC:20191012T130000
DTEND;TZID=UTC:20191012T133000
DTSTAMP:20260420T023053
CREATED:20191002T191659Z
LAST-MODIFIED:20191002T191659Z
UID:1715-1570885200-1570887000@pleaserock.com
SUMMARY:Yacht Rock Schooner Tribute to Queen ft. The Atlanta Gay Men’s Chorus @ Atlanta Pride
DESCRIPTION:
URL:https://pleaserock.com/event/yacht-rock-schooner-tribute-to-queen-ft-the-atlanta-gay-mens-chorus-atlanta-pride/
LOCATION:Piedmont Park\, 400 Park Dr NE\, Atlanta\, GA\, 30306\, United States
CATEGORIES:Yacht Rock Schooner
END:VEVENT
BEGIN:VEVENT
DTSTART;TZID=UTC:20191011T210000
DTEND;TZID=UTC:20191011T230000
DTSTAMP:20260420T023053
CREATED:20190903T170839Z
LAST-MODIFIED:20190903T170839Z
UID:1695-1570827600-1570834800@pleaserock.com
SUMMARY:Yacht Rock Schooner @ The Vista Room
DESCRIPTION:
URL:https://pleaserock.com/event/yacht-rock-schooner-the-vista-room-5/
LOCATION:Vista Room\, 2836 Lavista Rd\, Decatur\, GA\, 30033\, United States
CATEGORIES:Yacht Rock Schooner
END:VEVENT
BEGIN:VEVENT
DTSTART;TZID=UTC:20191005T203000
DTEND;TZID=UTC:20191005T223000
DTSTAMP:20260420T023053
CREATED:20190618T144142Z
LAST-MODIFIED:20190618T144142Z
UID:1640-1570307400-1570314600@pleaserock.com
SUMMARY:Yacht Rock Revue at The Signal
DESCRIPTION:
URL:https://pleaserock.com/event/yacht-rock-revue-at-the-signal-2/
LOCATION:The Signal\, 1810 Chestnut St\, Chattanooga\, TN\, 37408\, United States
CATEGORIES:Yacht Rock
END:VEVENT
BEGIN:VEVENT
DTSTART;TZID=UTC:20191004T200000
DTEND;TZID=UTC:20191004T220000
DTSTAMP:20260420T023053
CREATED:20190618T144043Z
LAST-MODIFIED:20190618T144043Z
UID:1637-1570219200-1570226400@pleaserock.com
SUMMARY:Yacht Rock Revue at The Mill & Mine
DESCRIPTION:
URL:https://pleaserock.com/event/yacht-rock-revue-at-the-mill-mine/
LOCATION:The Mill & Mine\, 227 W. Depot Avenue\, Knoxville\, TN\, United States
CATEGORIES:Yacht Rock
END:VEVENT
BEGIN:VEVENT
DTSTART;TZID=UTC:20191004T190000
DTEND;TZID=UTC:20191004T210000
DTSTAMP:20260420T023053
CREATED:20190816T162059Z
LAST-MODIFIED:20190816T162059Z
UID:1685-1570215600-1570222800@pleaserock.com
SUMMARY:Yacht Rock Schooner Acoustic Trio @ Brass Tap
DESCRIPTION:
URL:https://pleaserock.com/event/yacht-rock-schooner-acoustic-trio-brass-tap/
LOCATION:Brass Tap Dunwoody\, 4505 Ashford Dunwoody Rd\, Atlanta\, GA\, 30346\, United States
CATEGORIES:Yacht Rock Schooner
END:VEVENT
BEGIN:VEVENT
DTSTART;TZID=UTC:20190929T140000
DTEND;TZID=UTC:20190929T150000
DTSTAMP:20260420T023053
CREATED:20190923T151306Z
LAST-MODIFIED:20190923T151306Z
UID:1707-1569765600-1569769200@pleaserock.com
SUMMARY:Yacht Rock Revue at PredsFest
DESCRIPTION:
URL:https://pleaserock.com/event/yacht-rock-revue-at-predsfest/
LOCATION:Walk of Fame Park\, 121 4th Ave S\, Nashville\, TN\, United States
CATEGORIES:Yacht Rock
END:VEVENT
BEGIN:VEVENT
DTSTART;TZID=UTC:20190928T193000
DTEND;TZID=UTC:20190928T210000
DTSTAMP:20260420T023053
CREATED:20190923T150852Z
LAST-MODIFIED:20190923T150852Z
UID:1704-1569699000-1569704400@pleaserock.com
SUMMARY:Yacht Rock Revue at Charlotte Motor Speedway
DESCRIPTION:
URL:https://pleaserock.com/event/yacht-rock-revue-at-charlotte-motor-speedway/
LOCATION:Charlotte Motor Speedway\, 5555 Concord Parkway S\, Charlotte\, NC\, United States
CATEGORIES:Yacht Rock
END:VEVENT
BEGIN:VEVENT
DTSTART;TZID=UTC:20190927T210000
DTEND;TZID=UTC:20190927T230000
DTSTAMP:20260420T023054
CREATED:20190508T151024Z
LAST-MODIFIED:20190508T151024Z
UID:1595-1569618000-1569625200@pleaserock.com
SUMMARY:Yacht Rock Schooner @ Park Tavern
DESCRIPTION:
URL:https://pleaserock.com/event/yacht-rock-schooner-park-tavern-7/
LOCATION:Park Tavern\, Atlanta\, GA\, United States
CATEGORIES:Yacht Rock Schooner
END:VEVENT
BEGIN:VEVENT
DTSTART;TZID=UTC:20190914T213000
DTEND;TZID=UTC:20190914T233000
DTSTAMP:20260420T023054
CREATED:20190813T172644Z
LAST-MODIFIED:20190813T172644Z
UID:1683-1568496600-1568503800@pleaserock.com
SUMMARY:Yacht Rock Schooner at Venkman’s
DESCRIPTION:
URL:https://pleaserock.com/event/yacht-rock-schooner-at-venkmans/
LOCATION:Venkman’s\, 740 Ralph McGill Blvd\, Atlanta\, GA\, 30312\, United States
CATEGORIES:Yacht Rock Schooner
END:VEVENT
BEGIN:VEVENT
DTSTART;TZID=UTC:20190914T130000
DTEND;TZID=UTC:20190914T150000
DTSTAMP:20260420T023054
CREATED:20190517T191100Z
LAST-MODIFIED:20190517T191203Z
UID:1621-1568466000-1568473200@pleaserock.com
SUMMARY:Yacht Rock Revue at Indian Ranch
DESCRIPTION:
URL:https://pleaserock.com/event/yacht-rock-revue-at-indian-ranch/
LOCATION:Indian Ranch\, 200 Gore Road\, Webster\, MA\, 01570\, United States
CATEGORIES:Yacht Rock
END:VEVENT
BEGIN:VEVENT
DTSTART;TZID=UTC:20190913T200000
DTEND;TZID=UTC:20190913T220000
DTSTAMP:20260420T023054
CREATED:20190618T143905Z
LAST-MODIFIED:20190618T143905Z
UID:1635-1568404800-1568412000@pleaserock.com
SUMMARY:Yacht Rock Revue at The Wellmont Theater
DESCRIPTION:
URL:https://pleaserock.com/event/yacht-rock-revue-at-the-wellmont-theater-2/
LOCATION:The Wellmont Theater\, 5 Seymour St\, Montclair\, NJ\, 07042\, United States
CATEGORIES:Yacht Rock
END:VEVENT
BEGIN:VEVENT
DTSTART;TZID=UTC:20190912T200000
DTEND;TZID=UTC:20190912T220000
DTSTAMP:20260420T023054
CREATED:20190618T143746Z
LAST-MODIFIED:20190618T143746Z
UID:1633-1568318400-1568325600@pleaserock.com
SUMMARY:Yacht Rock Revue at The Paramount
DESCRIPTION:
URL:https://pleaserock.com/event/yacht-rock-revue-at-the-paramount-3/
LOCATION:The Paramount\, Huntington\, NY\, United States
CATEGORIES:Yacht Rock
END:VEVENT
BEGIN:VEVENT
DTSTART;TZID=UTC:20190911T200000
DTEND;TZID=UTC:20190911T220000
DTSTAMP:20260420T023054
CREATED:20190618T143530Z
LAST-MODIFIED:20190618T143530Z
UID:1630-1568232000-1568239200@pleaserock.com
SUMMARY:Yacht Rock Revue at Brooklyn Bowl
DESCRIPTION:
URL:https://pleaserock.com/event/yacht-rock-revue-at-brooklyn-bowl/
LOCATION:Brooklyn Bowl\, 61 Wythe Avenue\, Brooklyn\, NY\, United States
CATEGORIES:Yacht Rock
END:VEVENT
END:VCALENDAR